Workbook
Name ｋｋ: #REF!
Name ｋｋ: #REF!
Name ｋｋ: #REF!
Name ｋｋ: #REF!
Name ｋｋ: #REF!
Name ｋｋ: #REF!
Name ｋｋ: #REF!
Name ｋｋ: #REF!
Name ｋｋ: #REF!
Name ｋｋ: #REF!
Name ｋｋ: #REF!
Name ｋｋ: #REF!
Name ｋｋ: #REF!
Name Print_Area2: #REF!

Sheet 採用計画
B2: 採用計画 | G2: 会社名
D4: 必要人数 | F4: 人
B6: 部門 | F6: 社員区分 | G6: 採用ルート
C7: 期待職務 | D7: 希望人材像 | E7: 採用人数 | G7: 新卒 | H7: 紹介 会社 | I7: ＨＰ | J7: リファラル | K7: アルムナイ | L7: その他
A8: 1 | F8: ＜要選択＞
A9: 2 | F9: ＜要選択＞
A10: 3 | F10: ＜要選択＞
A11: 4 | F11: ＜要選択＞
A12: 5 | F12: ＜要選択＞
A13: 6 | F13: ＜要選択＞
A14: 7 | F14: ＜要選択＞
A15: 8 | F15: ＜要選択＞
A16: 9 | F16: ＜要選択＞
A17: 10 | F17: ＜要選択＞
D19: 採用計画合計人数 | F19: 人

Sheet 自律診断
B2: 38 仕事と職場の実態調査シート | F2: 納得度 | L2: 重要度
F3: 1 | G3: 2 | H3: 3 | I3: 4 | J3: 5
F4: 全くそう思わない | G4: ややそう思えない | H4: どちらとも言えない | I4: ややそう思う | J4: 強くそう思う | L4: 重要度順位 | M4: 例
B6: 仕事の質問 | C6: 11 | D6: 担当している仕事については、自由に任されている | M6: 3 | N6: 11から15までの ５つの質問について あなたが重要と思う順序を １～５で記述ください 最重要１、次は２ 最も重要でないものは５
C7: 12 | D7: 希望する仕事を担当させてもらえる | M7: 1
C8: 13 | D8: 職場のメンバーは、日々仕事の改善を考えている | M8: 5
C9: 14 | D9: 良くなることを提案する機会がある | M9: 2
C10: 15 | D10: 提案すると受け入れて採用してくれる | M10: 4
B12: 職場の質問 | C12: 21 | D12: 職場では、なんでも気軽に相談できる | M12: 1 | N12: 21から25までの ５つの質問について あなたが重要と思う順序を １～５で記述ください 最重要１、次は２ 最も重要でないものは５
C13: 22 | D13: ミスや失敗に寛大であり、常に挽回の機会がある | M13: 4
C14: 23 | D14: ミスや失敗のとき、何度も長時間指導されることはない | M14: 5
C15: 24 | D15: 自分が何で評価されるかが明確になっている | M15: 3
C16: 25 | D16: 上司の指示が、コロコロと変わることはない | M16: 2

Sheet 自律性_入力シート
B2: 『仕事と職場の実態調査シート』入力シート
D4: 施設名
F6: 通し番号 | G6: 1 | H6: 2 | I6: 3 | J6: 4 | K6: 5 | L6: 6 | M6: 7 | N6: 8 | O6: 9 | P6: 10 | Q6: 11 | R6: 12 | S6: 13 | T6: 14 | U6: 15 | V6: 16 | W6: 17 | X6: 18 | Y6: 19 | Z6: 20 | AA6: 21 | AB6: 22 | AC6: 23 | AD6: 24 | AE6: 25
B8: 納得度 | D8: 仕事の質問 | E8: 11 | F8: 担当している仕事については、自由に任されている
E9: 12 | F9: 希望する仕事を担当させてもらえる
E10: 13 | F10: 職場のメンバーは、日々仕事の改善を考えている
E11: 14 | F11: 良くなることを提案する機会がある
E12: 15 | F12: 提案すると受け入れて採用してくれる
D13: 職場の質問 | E13: 21 | F13: 職場では、なんでも気軽に相談できる
E14: 22 | F14: ミスや失敗に寛大であり、常に挽回の機会がある
E15: 23 | F15: ミスや失敗のとき、何度も長時間指導されることはない
E16: 24 | F16: 自分が何で評価されるかが明確になっている
E17: 25 | F17: 上司の指示が、コロコロと変わることはない
B19: 重要度 | D19: 仕事の質問 | E19: 11 | F19: 担当している仕事については、自由に任されている
E20: 12 | F20: 希望する仕事を担当させてもらえる
E21: 13 | F21: 職場のメンバーは、日々仕事の改善を考えている
E22: 14 | F22: 良くなることを提案する機会がある
E23: 15 | F23: 提案すると受け入れて採用してくれる
D24: 職場の質問 | E24: 21 | F24: 職場では、なんでも気軽に相談できる
E25: 22 | F25: ミスや失敗に寛大であり、常に挽回の機会がある
E26: 23 | F26: ミスや失敗のとき、何度も長時間指導されることはない
E27: 24 | F27: 自分が何で評価されるかが明確になっている
E28: 25 | F28: 上司の指示が、コロコロと変わることはない
B31: 仕事（権限移譲度） | D31: 重要度 | E31: 1 | F31: 0.4 | G31: =VLOOKUP(G19,$E31:$F35,2) -> #N/A | H31: =VLOOKUP(H19,$E31:$F35,2) -> #N/A | I31: =VLOOKUP(I19,$E31:$F35,2) -> #N/A | J31: =VLOOKUP(J19,$E31:$F35,2) -> #N/A | K31: =VLOOKUP(K19,$E31:$F35,2) -> #N/A | L31: =VLOOKUP(L19,$E31:$F35,2) -> #N/A | M31: =VLOOKUP(M19,$E31:$F35,2) -> #N/A | N31: =VLOOKUP(N19,$E31:$F35,2) -> #N/A | ... AE31: =VLOOKUP(AE19,$E31:$F35,2) -> #N/A
E32: 2 | F32: 0.3 | G32: =VLOOKUP(G20,$E31:$F35,2) -> #N/A | H32: =VLOOKUP(H20,$E31:$F35,2) -> #N/A | I32: =VLOOKUP(I20,$E31:$F35,2) -> #N/A | J32: =VLOOKUP(J20,$E31:$F35,2) -> #N/A | K32: =VLOOKUP(K20,$E31:$F35,2) -> #N/A | L32: =VLOOKUP(L20,$E31:$F35,2) -> #N/A | M32: =VLOOKUP(M20,$E31:$F35,2) -> #N/A | N32: =VLOOKUP(N20,$E31:$F35,2) -> #N/A | ... AE32: =VLOOKUP(AE20,$E31:$F35,2) -> #N/A
E33: 3 | F33: 0.15 | G33: =VLOOKUP(G21,$E31:$F35,2) -> #N/A | H33: =VLOOKUP(H21,$E31:$F35,2) -> #N/A | I33: =VLOOKUP(I21,$E31:$F35,2) -> #N/A | J33: =VLOOKUP(J21,$E31:$F35,2) -> #N/A | K33: =VLOOKUP(K21,$E31:$F35,2) -> #N/A | L33: =VLOOKUP(L21,$E31:$F35,2) -> #N/A | M33: =VLOOKUP(M21,$E31:$F35,2) -> #N/A | N33: =VLOOKUP(N21,$E31:$F35,2) -> #N/A | ... AE33: =VLOOKUP(AE21,$E31:$F35,2) -> #N/A
E34: 4 | F34: 0.1 | G34: =VLOOKUP(G22,$E31:$F35,2) -> #N/A | H34: =VLOOKUP(H22,$E31:$F35,2) -> #N/A | I34: =VLOOKUP(I22,$E31:$F35,2) -> #N/A | J34: =VLOOKUP(J22,$E31:$F35,2) -> #N/A | K34: =VLOOKUP(K22,$E31:$F35,2) -> #N/A | L34: =VLOOKUP(L22,$E31:$F35,2) -> #N/A | M34: =VLOOKUP(M22,$E31:$F35,2) -> #N/A | N34: =VLOOKUP(N22,$E31:$F35,2) -> #N/A | ... AE34: =VLOOKUP(AE22,$E31:$F35,2) -> #N/A
E35: 5 | F35: 0.05 | G35: =VLOOKUP(G23,$E31:$F35,2) -> #N/A | H35: =VLOOKUP(H23,$E31:$F35,2) -> #N/A | I35: =VLOOKUP(I23,$E31:$F35,2) -> #N/A | J35: =VLOOKUP(J23,$E31:$F35,2) -> #N/A | K35: =VLOOKUP(K23,$E31:$F35,2) -> #N/A | L35: =VLOOKUP(L23,$E31:$F35,2) -> #N/A | M35: =VLOOKUP(M23,$E31:$F35,2) -> #N/A | N35: =VLOOKUP(N23,$E31:$F35,2) -> #N/A | ... AE35: =VLOOKUP(AE23,$E31:$F35,2) -> #N/A
F36: =SUM(F31:F35) -> 1
G37: =G8*G$31 -> #N/A | H37: =H8*H$31 -> #N/A | I37: =I8*I$31 -> #N/A | J37: =J8*J$31 -> #N/A | K37: =K8*K$31 -> #N/A | L37: =L8*L$31 -> #N/A | M37: =M8*M$31 -> #N/A | N37: =N8*N$31 -> #N/A | ... AE37: =AE8*AE$31 -> #N/A
G38: =G9*G$32 -> #N/A | H38: =H9*H$32 -> #N/A | I38: =I9*I$32 -> #N/A | J38: =J9*J$32 -> #N/A | K38: =K9*K$32 -> #N/A | L38: =L9*L$32 -> #N/A | M38: =M9*M$32 -> #N/A | N38: =N9*N$32 -> #N/A | ... AE38: =AE9*AE$32 -> #N/A
G39: =G10*G$33 -> #N/A | H39: =H10*H$33 -> #N/A | I39: =I10*I$33 -> #N/A | J39: =J10*J$33 -> #N/A | K39: =K10*K$33 -> #N/A | L39: =L10*L$33 -> #N/A | M39: =M10*M$33 -> #N/A | N39: =N10*N$33 -> #N/A | ... AE39: =AE10*AE$33 -> #N/A
G40: =G11*G$34 -> #N/A | H40: =H11*H$34 -> #N/A | I40: =I11*I$34 -> #N/A | J40: =J11*J$34 -> #N/A | K40: =K11*K$34 -> #N/A | L40: =L11*L$34 -> #N/A | M40: =M11*M$34 -> #N/A | N40: =N11*N$34 -> #N/A | ... AE40: =AE11*AE$34 -> #N/A
G41: =G12*G$35 -> #N/A | H41: =H12*H$35 -> #N/A | I41: =I12*I$35 -> #N/A | J41: =J12*J$35 -> #N/A | K41: =K12*K$35 -> #N/A | L41: =L12*L$35 -> #N/A | M41: =M12*M$35 -> #N/A | N41: =N12*N$35 -> #N/A | ... AE41: =AE12*AE$35 -> #N/A
F42: 総合点 | G42: =SUM(G37:G41) -> #N/A | H42: =SUM(H37:H41) -> #N/A | I42: =SUM(I37:I41) -> #N/A | J42: =SUM(J37:J41) -> #N/A | K42: =SUM(K37:K41) -> #N/A | L42: =SUM(L37:L41) -> #N/A | M42: =SUM(M37:M41) -> #N/A | N42: =SUM(N37:N41) -> #N/A | ... AE42: =SUM(AE37:AE41) -> #N/A
B45: 職場（心理的安全性） | D45: 重要度 | E45: 1 | F45: 0.4 | G45: =VLOOKUP(G24,$E45:$F49,2) -> #N/A | H45: =VLOOKUP(H24,$E45:$F49,2) -> #N/A | I45: =VLOOKUP(I24,$E45:$F49,2) -> #N/A | J45: =VLOOKUP(J24,$E45:$F49,2) -> #N/A | K45: =VLOOKUP(K24,$E45:$F49,2) -> #N/A | L45: =VLOOKUP(L24,$E45:$F49,2) -> #N/A | M45: =VLOOKUP(M24,$E45:$F49,2) -> #N/A | N45: =VLOOKUP(N24,$E45:$F49,2) -> #N/A | ... AE45: =VLOOKUP(AE24,$E45:$F49,2) -> #N/A
E46: 2 | F46: 0.3 | G46: =VLOOKUP(G25,$E45:$F49,2) -> #N/A | H46: =VLOOKUP(H25,$E45:$F49,2) -> #N/A | I46: =VLOOKUP(I25,$E45:$F49,2) -> #N/A | J46: =VLOOKUP(J25,$E45:$F49,2) -> #N/A | K46: =VLOOKUP(K25,$E45:$F49,2) -> #N/A | L46: =VLOOKUP(L25,$E45:$F49,2) -> #N/A | M46: =VLOOKUP(M25,$E45:$F49,2) -> #N/A | N46: =VLOOKUP(N25,$E45:$F49,2) -> #N/A | ... AE46: =VLOOKUP(AE25,$E45:$F49,2) -> #N/A
E47: 3 | F47: 0.15 | G47: =VLOOKUP(G26,$E45:$F49,2) -> #N/A | H47: =VLOOKUP(H26,$E45:$F49,2) -> #N/A | I47: =VLOOKUP(I26,$E45:$F49,2) -> #N/A | J47: =VLOOKUP(J26,$E45:$F49,2) -> #N/A | K47: =VLOOKUP(K26,$E45:$F49,2) -> #N/A | L47: =VLOOKUP(L26,$E45:$F49,2) -> #N/A | M47: =VLOOKUP(M26,$E45:$F49,2) -> #N/A | N47: =VLOOKUP(N26,$E45:$F49,2) -> #N/A | ... AE47: =VLOOKUP(AE26,$E45:$F49,2) -> #N/A
E48: 4 | F48: 0.1 | G48: =VLOOKUP(G27,$E45:$F49,2) -> #N/A | H48: =VLOOKUP(H27,$E45:$F49,2) -> #N/A | I48: =VLOOKUP(I27,$E45:$F49,2) -> #N/A | J48: =VLOOKUP(J27,$E45:$F49,2) -> #N/A | K48: =VLOOKUP(K27,$E45:$F49,2) -> #N/A | L48: =VLOOKUP(L27,$E45:$F49,2) -> #N/A | M48: =VLOOKUP(M27,$E45:$F49,2) -> #N/A | N48: =VLOOKUP(N27,$E45:$F49,2) -> #N/A | ... AE48: =VLOOKUP(AE27,$E45:$F49,2) -> #N/A
E49: 5 | F49: 0.05 | G49: =VLOOKUP(G28,$E45:$F49,2) -> #N/A | H49: =VLOOKUP(H28,$E45:$F49,2) -> #N/A | I49: =VLOOKUP(I28,$E45:$F49,2) -> #N/A | J49: =VLOOKUP(J28,$E45:$F49,2) -> #N/A | K49: =VLOOKUP(K28,$E45:$F49,2) -> #N/A | L49: =VLOOKUP(L28,$E45:$F49,2) -> #N/A | M49: =VLOOKUP(M28,$E45:$F49,2) -> #N/A | N49: =VLOOKUP(N28,$E45:$F49,2) -> #N/A | ... AE49: =VLOOKUP(AE28,$E45:$F49,2) -> #N/A
G51: =G13*G$45 -> #N/A | H51: =H13*H$45 -> #N/A | I51: =I13*I$45 -> #N/A | J51: =J13*J$45 -> #N/A | K51: =K13*K$45 -> #N/A | L51: =L13*L$45 -> #N/A | M51: =M13*M$45 -> #N/A | N51: =N13*N$45 -> #N/A | ... AE51: =AE13*AE$45 -> #N/A
G52: =G14*G$46 -> #N/A | H52: =H14*H$46 -> #N/A | I52: =I14*I$46 -> #N/A | J52: =J14*J$46 -> #N/A | K52: =K14*K$46 -> #N/A | L52: =L14*L$46 -> #N/A | M52: =M14*M$46 -> #N/A | N52: =N14*N$46 -> #N/A | ... AE52: =AE14*AE$46 -> #N/A
G53: =G15*G$47 -> #N/A | H53: =H15*H$47 -> #N/A | I53: =I15*I$47 -> #N/A | J53: =J15*J$47 -> #N/A | K53: =K15*K$47 -> #N/A | L53: =L15*L$47 -> #N/A | M53: =M15*M$47 -> #N/A | N53: =N15*N$47 -> #N/A | ... AE53: =AE15*AE$47 -> #N/A
G54: =G16*G$48 -> #N/A | H54: =H16*H$48 -> #N/A | I54: =I16*I$48 -> #N/A | J54: =J16*J$48 -> #N/A | K54: =K16*K$48 -> #N/A | L54: =L16*L$48 -> #N/A | M54: =M16*M$48 -> #N/A | N54: =N16*N$48 -> #N/A | ... AE54: =AE16*AE$48 -> #N/A
G55: =G17*G$49 -> #N/A | H55: =H17*H$49 -> #N/A | I55: =I17*I$49 -> #N/A | J55: =J17*J$49 -> #N/A | K55: =K17*K$49 -> #N/A | L55: =L17*L$49 -> #N/A | M55: =M17*M$49 -> #N/A | N55: =N17*N$49 -> #N/A | ... AE55: =AE17*AE$49 -> #N/A
F56: 総合点 | G56: =SUM(G51:G55) -> #N/A | H56: =SUM(H51:H55) -> #N/A | I56: =SUM(I51:I55) -> #N/A | J56: =SUM(J51:J55) -> #N/A | K56: =SUM(K51:K55) -> #N/A | L56: =SUM(L51:L55) -> #N/A | M56: =SUM(M51:M55) -> #N/A | N56: =SUM(N51:N55) -> #N/A | ... AE56: =SUM(AE51:AE55) -> #N/A
F58: 仕事（権限移譲度） | G58: =G42 -> #N/A | H58: =H42 -> #N/A | I58: =I42 -> #N/A | J58: =J42 -> #N/A | K58: =K42 -> #N/A | L58: =L42 -> #N/A | M58: =M42 -> #N/A | N58: =N42 -> #N/A | ... AE58: =AE42 -> #N/A
F59: 職場（心理的安全性） | G59: =G56 -> #N/A | H59: =H56 -> #N/A | I59: =I56 -> #N/A | J59: =J56 -> #N/A | K59: =K56 -> #N/A | L59: =L56 -> #N/A | M59: =M56 -> #N/A | N59: =N56 -> #N/A | ... AE59: =AE56 -> #N/A

Sheet 風土アンケート
B2: 風土調査アンケート | G2: 個人別評価欄
G4: 満足度 | O4: 重要度
C5: 部署 | D5: ： | G5: 7 | H5: 6 | I5: 5 | J5: 4 | K5: 3 | L5: 2 | M5: 1 | O5: 7 | P5: 6 | Q5: 5 | R5: 4 | S5: 3 | T5: 2 | U5: 1
G6: 極めて満足（高い） | H6: 満足 | I6: やや満足 | J6: 中間 | K6: やや不満 | L6: 不満 | M6: 極めて不満（低い） | O6: 極めて重要 | P6: 重要 | Q6: やや重要 | R6: 中間 | S6: やや重要でない | T6: 重要でない | U6: 全く不要
C7: 職位 | D7: ：
B12: 1 | C12: 組織将来像 | D12: 11 | E12: 会社の理念や行動規範などへの共感は | G12: 7 | H12: 6 | I12: 5 | J12: 4 | K12: 3 | L12: 2 | M12: 1 | O12: 7 | P12: 6 | Q12: 5 | R12: 4 | S12: 3 | T12: 2 | U12: 1
D13: 12 | E13: 会社の理念や行動規範などの浸透度・実践度は | G13: 7 | H13: 6 | I13: 5 | J13: 4 | K13: 3 | L13: 2 | M13: 1 | O13: 7 | P13: 6 | Q13: 5 | R13: 4 | S13: 3 | T13: 2 | U13: 1
D14: 13 | E14: 部門が目指す姿や方針の明確さは | G14: 7 | H14: 6 | I14: 5 | J14: 4 | K14: 3 | L14: 2 | M14: 1 | O14: 7 | P14: 6 | Q14: 5 | R14: 4 | S14: 3 | T14: 2 | U14: 1
D15: 14 | E15: 部門が目指す姿や方針の納得度は | G15: 7 | H15: 6 | I15: 5 | J15: 4 | K15: 3 | L15: 2 | M15: 1 | O15: 7 | P15: 6 | Q15: 5 | R15: 4 | S15: 3 | T15: 2 | U15: 1
B16: 2 | C16: 組織統制 | D16: 21 | E16: 部門TOPと現場との距離感（幹部による現場理解）は | G16: 7 | H16: 6 | I16: 5 | J16: 4 | K16: 3 | L16: 2 | M16: 1 | O16: 7 | P16: 6 | Q16: 5 | R16: 4 | S16: 3 | T16: 2 | U16: 1
D17: 22 | E17: 階層ごとの方針の明確さ・具体性は | G17: 7 | H17: 6 | I17: 5 | J17: 4 | K17: 3 | L17: 2 | M17: 1 | O17: 7 | P17: 6 | Q17: 5 | R17: 4 | S17: 3 | T17: 2 | U17: 1
D18: 23 | E18: 方針の組織下位階層への伝え方は | G18: 7 | H18: 6 | I18: 5 | J18: 4 | K18: 3 | L18: 2 | M18: 1 | O18: 7 | P18: 6 | Q18: 5 | R18: 4 | S18: 3 | T18: 2 | U18: 1
D19: 24 | E19: 部門の方針と部署の方針の整合性は | G19: 7 | H19: 6 | I19: 5 | J19: 4 | K19: 3 | L19: 2 | M19: 1 | O19: 7 | P19: 6 | Q19: 5 | R19: 4 | S19: 3 | T19: 2 | U19: 1
D20: 25 | E20: 部門の方針に対する納得度は | G20: 7 | H20: 6 | I20: 5 | J20: 4 | K20: 3 | L20: 2 | M20: 1 | O20: 7 | P20: 6 | Q20: 5 | R20: 4 | S20: 3 | T20: 2 | U20: 1
D21: 26 | E21: 部門方針と日常業務上の意思決定の一貫性は | G21: 7 | H21: 6 | I21: 5 | J21: 4 | K21: 3 | L21: 2 | M21: 1 | O21: 7 | P21: 6 | Q21: 5 | R21: 4 | S21: 3 | T21: 2 | U21: 1
B22: 3 | C22: 部門間協調 | D22: 31 | E22: 部門横断での様々な取り組みの状況は | G22: 7 | H22: 6 | I22: 5 | J22: 4 | K22: 3 | L22: 2 | M22: 1 | O22: 7 | P22: 6 | Q22: 5 | R22: 4 | S22: 3 | T22: 2 | U22: 1
D23: 32 | E23: 部門間の協力、支援のあり方は | G23: 7 | H23: 6 | I23: 5 | J23: 4 | K23: 3 | L23: 2 | M23: 1 | O23: 7 | P23: 6 | Q23: 5 | R23: 4 | S23: 3 | T23: 2 | U23: 1
D24: 33 | E24: 職務の責任に関する部門全体の雰囲気は | G24: 7 | H24: 6 | I24: 5 | J24: 4 | K24: 3 | L24: 2 | M24: 1 | O24: 7 | P24: 6 | Q24: 5 | R24: 4 | S24: 3 | T24: 2 | U24: 1
B25: 4 | C25: 職場環境 | D25: 41 | E25: 部署別の人員配置の適切さ（要員の充足度）は | G25: 7 | H25: 6 | I25: 5 | J25: 4 | K25: 3 | L25: 2 | M25: 1 | O25: 7 | P25: 6 | Q25: 5 | R25: 4 | S25: 3 | T25: 2 | U25: 1
C26: （職場＝部署） | D26: 42 | E26: 担当者ごとの業務配分（業務量のバランス）は | G26: 7 | H26: 6 | I26: 5 | J26: 4 | K26: 3 | L26: 2 | M26: 1 | O26: 7 | P26: 6 | Q26: 5 | R26: 4 | S26: 3 | T26: 2 | U26: 1
D27: 43 | E27: 勤務時間、勤務シフトは適切さは | G27: 7 | H27: 6 | I27: 5 | J27: 4 | K27: 3 | L27: 2 | M27: 1 | O27: 7 | P27: 6 | Q27: 5 | R27: 4 | S27: 3 | T27: 2 | U27: 1
D28: 44 | E28: 上司・同僚の自分への理解度や相談のしやすさは | G28: 7 | H28: 6 | I28: 5 | J28: 4 | K28: 3 | L28: 2 | M28: 1 | O28: 7 | P28: 6 | Q28: 5 | R28: 4 | S28: 3 | T28: 2 | U28: 1
D29: 45 | E29: 部署における職場運営に関する発言機会は | G29: 7 | H29: 6 | I29: 5 | J29: 4 | K29: 3 | L29: 2 | M29: 1 | O29: 7 | P29: 6 | Q29: 5 | R29: 4 | S29: 3 | T29: 2 | U29: 1
D30: 46 | E30: 部署メンバーにおける業績向上への努力度は | G30: 7 | H30: 6 | I30: 5 | J30: 4 | K30: 3 | L30: 2 | M30: 1 | O30: 7 | P30: 6 | Q30: 5 | R30: 4 | S30: 3 | T30: 2 | U30: 1
D31: 47 | E31: 部署メンバー間の業務上の協力度は | G31: 7 | H31: 6 | I31: 5 | J31: 4 | K31: 3 | L31: 2 | M31: 1 | O31: 7 | P31: 6 | Q31: 5 | R31: 4 | S31: 3 | T31: 2 | U31: 1
B32: 5 | C32: 担当職務 | D32: 51 | E32: 現在の仕事におけるやりがいや達成感は | G32: 7 | H32: 6 | I32: 5 | J32: 4 | K32: 3 | L32: 2 | M32: 1 | O32: 7 | P32: 6 | Q32: 5 | R32: 4 | S32: 3 | T32: 2 | U32: 1
D33: 52 | E33: 自分の担当業務や責任範囲の明確度は | G33: 7 | H33: 6 | I33: 5 | J33: 4 | K33: 3 | L33: 2 | M33: 1 | O33: 7 | P33: 6 | Q33: 5 | R33: 4 | S33: 3 | T33: 2 | U33: 1
D34: 53 | E34: 能力向上のための制度や場の確保は | G34: 7 | H34: 6 | I34: 5 | J34: 4 | K34: 3 | L34: 2 | M34: 1 | O34: 7 | P34: 6 | Q34: 5 | R34: 4 | S34: 3 | T34: 2 | U34: 1
B35: 6 | C35: 人事評価 | D35: 61 | E35: 人事評価の適正さは | G35: 7 | H35: 6 | I35: 5 | J35: 4 | K35: 3 | L35: 2 | M35: 1 | O35: 7 | P35: 6 | Q35: 5 | R35: 4 | S35: 3 | T35: 2 | U35: 1
D36: 62 | E36: 自分の人事評価結果への説明の納得度は | G36: 7 | H36: 6 | I36: 5 | J36: 4 | K36: 3 | L36: 2 | M36: 1 | O36: 7 | P36: 6 | Q36: 5 | R36: 4 | S36: 3 | T36: 2 | U36: 1
D37: 63 | E37: 今のポストの自分の能力に対する相応しさは | G37: 7 | H37: 6 | I37: 5 | J37: 4 | K37: 3 | L37: 2 | M37: 1 | O37: 7 | P37: 6 | Q37: 5 | R37: 4 | S37: 3 | T37: 2 | U37: 1
D38: 64 | E38: 昇格や昇進の公正さや客観さは | G38: 7 | H38: 6 | I38: 5 | J38: 4 | K38: 3 | L38: 2 | M38: 1 | O38: 7 | P38: 6 | Q38: 5 | R38: 4 | S38: 3 | T38: 2 | U38: 1
B39: 7 | C39: 報酬 | D39: 71 | E39: 仕事内容や責任に対する給与の額（レベル）は | G39: 7 | H39: 6 | I39: 5 | J39: 4 | K39: 3 | L39: 2 | M39: 1 | O39: 7 | P39: 6 | Q39: 5 | R39: 4 | S39: 3 | T39: 2 | U39: 1
D40: 72 | E40: 部門部門間における報酬のレベルの適正度は | G40: 7 | H40: 6 | I40: 5 | J40: 4 | K40: 3 | L40: 2 | M40: 1 | O40: 7 | P40: 6 | Q40: 5 | R40: 4 | S40: 3 | T40: 2 | U40: 1
D41: 73 | E41: 仕事の成果と昇進・昇給の対応度は | G41: 7 | H41: 6 | I41: 5 | J41: 4 | K41: 3 | L41: 2 | M41: 1 | O41: 7 | P41: 6 | Q41: 5 | R41: 4 | S41: 3 | T41: 2 | U41: 1

Sheet 風土_入力シート
C2: 部署 | G2: 満足度 | AG2: 重要度
C3: 職位 | G3: 入力欄 | AA3: 分析欄 【自動計算】 | AG3: 入力欄 | BA3: 分析欄 【自動計算】
AA4: 平均（合計） | AB4: 順位 | AC4: ランク | BA4: 平均（合計） | BB4: 順位 | BC4: ランク
AC5: 上 | AD5: 中 | AE5: 下 | BC5: 上 | BD5: 中 | BE5: 下
AC6: 1 | AD6: 11 | AE6: 21 | BC6: 1 | BD6: 11 | BE6: 21
AC7: ～ | AD7: ～ | AE7: ～ | BC7: ～ | BD7: ～ | BE7: ～
G8: 1 | H8: 2 | I8: 3 | J8: 4 | K8: 5 | L8: 6 | M8: 7 | N8: 8 | O8: 9 | P8: 10 | Q8: 11 | R8: 12 | S8: 13 | T8: 14 | U8: 15 | V8: 16 | W8: 17 | X8: 18 | Y8: 19 | Z8: 20 | AC8: 10 | AD8: 20 | AE8: 30 | AG8: 1 | AH8: 2 | AI8: 3 | AJ8: 4 | AK8: 5 | AL8: 6 | AM8: 7 | AN8: 8 | AO8: 9 | AP8: 10 | AQ8: 11 | AR8: 12 | AS8: 13 | AT8: 14 | AU8: 15 | AV8: 16 | AW8: 17 | AX8: 18 | AY8: 19 | AZ8: 20 | BC8: 10 | BD8: 20 | BE8: 30
B10: 1 | C10: 組織将来像 | D10: 11 | E10: 会社の理念や行動規範などへの共感は | AA10: =IF(G10="","－",AVERAGE(G10:Z10)) -> － | AB10: =IF(G10="","-",RANK(AA10,AA$10:AA$39,0)) -> - | AC10: =IF(AB10<=10,"■","") | AD10: =IF(11<=AB10,IF(AB10<=20,"■",""),"") | AE10: =IF(AB10>=21,IF(AB10<=30,"■",""),"") | BA10: =IF(AG10="","－",AVERAGE(AG10:AZ10)) -> － | BB10: =IF(AG10="","-",RANK(BA10,BA$10:BA$39,0)) -> - | BC10: =IF(BB10<=10,"■","") | BD10: =IF(11<=BB10,IF(BB10<=20,"■",""),"") | BE10: =IF(BB10>=21,IF(BB10<=30,"■",""),"")
D11: 12 | E11: 会社の理念や行動規範などの浸透度・実践度は | AA11: =IF(G11="","－",AVERAGE(G11:Z11)) -> － | AB11: =IF(G11="","-",RANK(AA11,AA$10:AA$39,0)) -> - | AC11: =IF(AB11<=10,"■","") | AD11: =IF(11<=AB11,IF(AB11<=20,"■",""),"") | AE11: =IF(AB11>=21,IF(AB11<=30,"■",""),"") | BA11: =IF(AG11="","－",AVERAGE(AG11:AZ11)) -> － | BB11: =IF(AG11="","-",RANK(BA11,BA$10:BA$39,0)) -> - | BC11: =IF(BB11<=10,"■","") | BD11: =IF(11<=BB11,IF(BB11<=20,"■",""),"") | BE11: =IF(BB11>=21,IF(BB11<=30,"■",""),"")
D12: 13 | E12: 部門が目指す姿や方針の明確さは | AA12: =IF(G12="","－",AVERAGE(G12:Z12)) -> － | AB12: =IF(G12="","-",RANK(AA12,AA$10:AA$39,0)) -> - | AC12: =IF(AB12<=10,"■","") | AD12: =IF(11<=AB12,IF(AB12<=20,"■",""),"") | AE12: =IF(AB12>=21,IF(AB12<=30,"■",""),"") | BA12: =IF(AG12="","－",AVERAGE(AG12:AZ12)) -> － | BB12: =IF(AG12="","-",RANK(BA12,BA$10:BA$39,0)) -> - | BC12: =IF(BB12<=10,"■","") | BD12: =IF(11<=BB12,IF(BB12<=20,"■",""),"") | BE12: =IF(BB12>=21,IF(BB12<=30,"■",""),"")
D13: 14 | E13: 部門が目指す姿や方針の納得度は | AA13: =IF(G13="","－",AVERAGE(G13:Z13)) -> － | AB13: =IF(G13="","-",RANK(AA13,AA$10:AA$39,0)) -> - | AC13: =IF(AB13<=10,"■","") | AD13: =IF(11<=AB13,IF(AB13<=20,"■",""),"") | AE13: =IF(AB13>=21,IF(AB13<=30,"■",""),"") | BA13: =IF(AG13="","－",AVERAGE(AG13:AZ13)) -> － | BB13: =IF(AG13="","-",RANK(BA13,BA$10:BA$39,0)) -> - | BC13: =IF(BB13<=10,"■","") | BD13: =IF(11<=BB13,IF(BB13<=20,"■",""),"") | BE13: =IF(BB13>=21,IF(BB13<=30,"■",""),"")
B14: 2 | C14: 組織統制 | D14: 21 | E14: 部門TOPと現場との距離感（幹部による現場理解）は | AA14: =IF(G14="","－",AVERAGE(G14:Z14)) -> － | AB14: =IF(G14="","-",RANK(AA14,AA$10:AA$39,0)) -> - | AC14: =IF(AB14<=10,"■","") | AD14: =IF(11<=AB14,IF(AB14<=20,"■",""),"") | AE14: =IF(AB14>=21,IF(AB14<=30,"■",""),"") | BA14: =IF(AG14="","－",AVERAGE(AG14:AZ14)) -> － | BB14: =IF(AG14="","-",RANK(BA14,BA$10:BA$39,0)) -> - | BC14: =IF(BB14<=10,"■","") | BD14: =IF(11<=BB14,IF(BB14<=20,"■",""),"") | BE14: =IF(BB14>=21,IF(BB14<=30,"■",""),"")
D15: 22 | E15: 階層ごとの方針の明確さ・具体性は | AA15: =IF(G15="","－",AVERAGE(G15:Z15)) -> － | AB15: =IF(G15="","-",RANK(AA15,AA$10:AA$39,0)) -> - | AC15: =IF(AB15<=10,"■","") | AD15: =IF(11<=AB15,IF(AB15<=20,"■",""),"") | AE15: =IF(AB15>=21,IF(AB15<=30,"■",""),"") | BA15: =IF(AG15="","－",AVERAGE(AG15:AZ15)) -> － | BB15: =IF(AG15="","-",RANK(BA15,BA$10:BA$39,0)) -> - | BC15: =IF(BB15<=10,"■","") | BD15: =IF(11<=BB15,IF(BB15<=20,"■",""),"") | BE15: =IF(BB15>=21,IF(BB15<=30,"■",""),"")
D16: 23 | E16: 方針の組織下位階層への伝え方は | AA16: =IF(G16="","－",AVERAGE(G16:Z16)) -> － | AB16: =IF(G16="","-",RANK(AA16,AA$10:AA$39,0)) -> - | AC16: =IF(AB16<=10,"■","") | AD16: =IF(11<=AB16,IF(AB16<=20,"■",""),"") | AE16: =IF(AB16>=21,IF(AB16<=30,"■",""),"") | BA16: =IF(AG16="","－",AVERAGE(AG16:AZ16)) -> － | BB16: =IF(AG16="","-",RANK(BA16,BA$10:BA$39,0)) -> - | BC16: =IF(BB16<=10,"■","") | BD16: =IF(11<=BB16,IF(BB16<=20,"■",""),"") | BE16: =IF(BB16>=21,IF(BB16<=30,"■",""),"")
D17: 24 | E17: 部門の方針と部署の方針の整合性は | AA17: =IF(G17="","－",AVERAGE(G17:Z17)) -> － | AB17: =IF(G17="","-",RANK(AA17,AA$10:AA$39,0)) -> - | AC17: =IF(AB17<=10,"■","") | AD17: =IF(11<=AB17,IF(AB17<=20,"■",""),"") | AE17: =IF(AB17>=21,IF(AB17<=30,"■",""),"") | BA17: =IF(AG17="","－",AVERAGE(AG17:AZ17)) -> － | BB17: =IF(AG17="","-",RANK(BA17,BA$10:BA$39,0)) -> - | BC17: =IF(BB17<=10,"■","") | BD17: =IF(11<=BB17,IF(BB17<=20,"■",""),"") | BE17: =IF(BB17>=21,IF(BB17<=30,"■",""),"")
D18: 25 | E18: 部門の方針に対する納得度は | AA18: =IF(G18="","－",AVERAGE(G18:Z18)) -> － | AB18: =IF(G18="","-",RANK(AA18,AA$10:AA$39,0)) -> - | AC18: =IF(AB18<=10,"■","") | AD18: =IF(11<=AB18,IF(AB18<=20,"■",""),"") | AE18: =IF(AB18>=21,IF(AB18<=30,"■",""),"") | BA18: =IF(AG18="","－",AVERAGE(AG18:AZ18)) -> － | BB18: =IF(AG18="","-",RANK(BA18,BA$10:BA$39,0)) -> - | BC18: =IF(BB18<=10,"■","") | BD18: =IF(11<=BB18,IF(BB18<=20,"■",""),"") | BE18: =IF(BB18>=21,IF(BB18<=30,"■",""),"")
D19: 26 | E19: 部門方針と日常業務上の意思決定の一貫性は | AA19: =IF(G19="","－",AVERAGE(G19:Z19)) -> － | AB19: =IF(G19="","-",RANK(AA19,AA$10:AA$39,0)) -> - | AC19: =IF(AB19<=10,"■","") | AD19: =IF(11<=AB19,IF(AB19<=20,"■",""),"") | AE19: =IF(AB19>=21,IF(AB19<=30,"■",""),"") | BA19: =IF(AG19="","－",AVERAGE(AG19:AZ19)) -> － | BB19: =IF(AG19="","-",RANK(BA19,BA$10:BA$39,0)) -> - | BC19: =IF(BB19<=10,"■","") | BD19: =IF(11<=BB19,IF(BB19<=20,"■",""),"") | BE19: =IF(BB19>=21,IF(BB19<=30,"■",""),"")
B20: 3 | C20: 部門間協調 | D20: 31 | E20: 部門横断での様々な取り組みの状況は | AA20: =IF(G20="","－",AVERAGE(G20:Z20)) -> － | AB20: =IF(G20="","-",RANK(AA20,AA$10:AA$39,0)) -> - | AC20: =IF(AB20<=10,"■","") | AD20: =IF(11<=AB20,IF(AB20<=20,"■",""),"") | AE20: =IF(AB20>=21,IF(AB20<=30,"■",""),"") | BA20: =IF(AG20="","－",AVERAGE(AG20:AZ20)) -> － | BB20: =IF(AG20="","-",RANK(BA20,BA$10:BA$39,0)) -> - | BC20: =IF(BB20<=10,"■","") | BD20: =IF(11<=BB20,IF(BB20<=20,"■",""),"") | BE20: =IF(BB20>=21,IF(BB20<=30,"■",""),"")
D21: 32 | E21: 部門間の協力、支援のあり方は | AA21: =IF(G21="","－",AVERAGE(G21:Z21)) -> － | AB21: =IF(G21="","-",RANK(AA21,AA$10:AA$39,0)) -> - | AC21: =IF(AB21<=10,"■","") | AD21: =IF(11<=AB21,IF(AB21<=20,"■",""),"") | AE21: =IF(AB21>=21,IF(AB21<=30,"■",""),"") | BA21: =IF(AG21="","－",AVERAGE(AG21:AZ21)) -> － | BB21: =IF(AG21="","-",RANK(BA21,BA$10:BA$39,0)) -> - | BC21: =IF(BB21<=10,"■","") | BD21: =IF(11<=BB21,IF(BB21<=20,"■",""),"") | BE21: =IF(BB21>=21,IF(BB21<=30,"■",""),"")
D22: 33 | E22: 職務の責任に関する部門全体の雰囲気は | AA22: =IF(G22="","－",AVERAGE(G22:Z22)) -> － | AB22: =IF(G22="","-",RANK(AA22,AA$10:AA$39,0)) -> - | AC22: =IF(AB22<=10,"■","") | AD22: =IF(11<=AB22,IF(AB22<=20,"■",""),"") | AE22: =IF(AB22>=21,IF(AB22<=30,"■",""),"") | BA22: =IF(AG22="","－",AVERAGE(AG22:AZ22)) -> － | BB22: =IF(AG22="","-",RANK(BA22,BA$10:BA$39,0)) -> - | BC22: =IF(BB22<=10,"■","") | BD22: =IF(11<=BB22,IF(BB22<=20,"■",""),"") | BE22: =IF(BB22>=21,IF(BB22<=30,"■",""),"")
B23: 4 | C23: 職場環境 | D23: 41 | E23: 部署別の人員配置の適切さ（要員の充足度）は | AA23: =IF(G23="","－",AVERAGE(G23:Z23)) -> － | AB23: =IF(G23="","-",RANK(AA23,AA$10:AA$39,0)) -> - | AC23: =IF(AB23<=10,"■","") | AD23: =IF(11<=AB23,IF(AB23<=20,"■",""),"") | AE23: =IF(AB23>=21,IF(AB23<=30,"■",""),"") | BA23: =IF(AG23="","－",AVERAGE(AG23:AZ23)) -> － | BB23: =IF(AG23="","-",RANK(BA23,BA$10:BA$39,0)) -> - | BC23: =IF(BB23<=10,"■","") | BD23: =IF(11<=BB23,IF(BB23<=20,"■",""),"") | BE23: =IF(BB23>=21,IF(BB23<=30,"■",""),"")
C24: （職場＝部署） | D24: 42 | E24: 担当者ごとの業務配分（業務量のバランス）は | AA24: =IF(G24="","－",AVERAGE(G24:Z24)) -> － | AB24: =IF(G24="","-",RANK(AA24,AA$10:AA$39,0)) -> - | AC24: =IF(AB24<=10,"■","") | AD24: =IF(11<=AB24,IF(AB24<=20,"■",""),"") | AE24: =IF(AB24>=21,IF(AB24<=30,"■",""),"") | BA24: =IF(AG24="","－",AVERAGE(AG24:AZ24)) -> － | BB24: =IF(AG24="","-",RANK(BA24,BA$10:BA$39,0)) -> - | BC24: =IF(BB24<=10,"■","") | BD24: =IF(11<=BB24,IF(BB24<=20,"■",""),"") | BE24: =IF(BB24>=21,IF(BB24<=30,"■",""),"")
D25: 43 | E25: 勤務時間、勤務シフトは適切さは | AA25: =IF(G25="","－",AVERAGE(G25:Z25)) -> － | AB25: =IF(G25="","-",RANK(AA25,AA$10:AA$39,0)) -> - | AC25: =IF(AB25<=10,"■","") | AD25: =IF(11<=AB25,IF(AB25<=20,"■",""),"") | AE25: =IF(AB25>=21,IF(AB25<=30,"■",""),"") | BA25: =IF(AG25="","－",AVERAGE(AG25:AZ25)) -> － | BB25: =IF(AG25="","-",RANK(BA25,BA$10:BA$39,0)) -> - | BC25: =IF(BB25<=10,"■","") | BD25: =IF(11<=BB25,IF(BB25<=20,"■",""),"") | BE25: =IF(BB25>=21,IF(BB25<=30,"■",""),"")
D26: 44 | E26: 上司・同僚の自分への理解度や相談のしやすさは | AA26: =IF(G26="","－",AVERAGE(G26:Z26)) -> － | AB26: =IF(G26="","-",RANK(AA26,AA$10:AA$39,0)) -> - | AC26: =IF(AB26<=10,"■","") | AD26: =IF(11<=AB26,IF(AB26<=20,"■",""),"") | AE26: =IF(AB26>=21,IF(AB26<=30,"■",""),"") | BA26: =IF(AG26="","－",AVERAGE(AG26:AZ26)) -> － | BB26: =IF(AG26="","-",RANK(BA26,BA$10:BA$39,0)) -> - | BC26: =IF(BB26<=10,"■","") | BD26: =IF(11<=BB26,IF(BB26<=20,"■",""),"") | BE26: =IF(BB26>=21,IF(BB26<=30,"■",""),"")
D27: 45 | E27: 部署における職場運営に関する発言機会は | AA27: =IF(G27="","－",AVERAGE(G27:Z27)) -> － | AB27: =IF(G27="","-",RANK(AA27,AA$10:AA$39,0)) -> - | AC27: =IF(AB27<=10,"■","") | AD27: =IF(11<=AB27,IF(AB27<=20,"■",""),"") | AE27: =IF(AB27>=21,IF(AB27<=30,"■",""),"") | BA27: =IF(AG27="","－",AVERAGE(AG27:AZ27)) -> － | BB27: =IF(AG27="","-",RANK(BA27,BA$10:BA$39,0)) -> - | BC27: =IF(BB27<=10,"■","") | BD27: =IF(11<=BB27,IF(BB27<=20,"■",""),"") | BE27: =IF(BB27>=21,IF(BB27<=30,"■",""),"")
D28: 46 | E28: 部署メンバーにおける業績向上への努力度は | AA28: =IF(G28="","－",AVERAGE(G28:Z28)) -> － | AB28: =IF(G28="","-",RANK(AA28,AA$10:AA$39,0)) -> - | AC28: =IF(AB28<=10,"■","") | AD28: =IF(11<=AB28,IF(AB28<=20,"■",""),"") | AE28: =IF(AB28>=21,IF(AB28<=30,"■",""),"") | BA28: =IF(AG28="","－",AVERAGE(AG28:AZ28)) -> － | BB28: =IF(AG28="","-",RANK(BA28,BA$10:BA$39,0)) -> - | BC28: =IF(BB28<=10,"■","") | BD28: =IF(11<=BB28,IF(BB28<=20,"■",""),"") | BE28: =IF(BB28>=21,IF(BB28<=30,"■",""),"")
D29: 47 | E29: 部署メンバー間の業務上の協力度は | AA29: =IF(G29="","－",AVERAGE(G29:Z29)) -> － | AB29: =IF(G29="","-",RANK(AA29,AA$10:AA$39,0)) -> - | AC29: =IF(AB29<=10,"■","") | AD29: =IF(11<=AB29,IF(AB29<=20,"■",""),"") | AE29: =IF(AB29>=21,IF(AB29<=30,"■",""),"") | BA29: =IF(AG29="","－",AVERAGE(AG29:AZ29)) -> － | BB29: =IF(AG29="","-",RANK(BA29,BA$10:BA$39,0)) -> - | BC29: =IF(BB29<=10,"■","") | BD29: =IF(11<=BB29,IF(BB29<=20,"■",""),"") | BE29: =IF(BB29>=21,IF(BB29<=30,"■",""),"")
B30: 5 | C30: 担当職務 | D30: 51 | E30: 現在の仕事におけるやりがいや達成感は | AA30: =IF(G30="","－",AVERAGE(G30:Z30)) -> － | AB30: =IF(G30="","-",RANK(AA30,AA$10:AA$39,0)) -> - | AC30: =IF(AB30<=10,"■","") | AD30: =IF(11<=AB30,IF(AB30<=20,"■",""),"") | AE30: =IF(AB30>=21,IF(AB30<=30,"■",""),"") | BA30: =IF(AG30="","－",AVERAGE(AG30:AZ30)) -> － | BB30: =IF(AG30="","-",RANK(BA30,BA$10:BA$39,0)) -> - | BC30: =IF(BB30<=10,"■","") | BD30: =IF(11<=BB30,IF(BB30<=20,"■",""),"") | BE30: =IF(BB30>=21,IF(BB30<=30,"■",""),"")
D31: 52 | E31: 自分の担当業務や責任範囲の明確度は | AA31: =IF(G31="","－",AVERAGE(G31:Z31)) -> － | AB31: =IF(G31="","-",RANK(AA31,AA$10:AA$39,0)) -> - | AC31: =IF(AB31<=10,"■","") | AD31: =IF(11<=AB31,IF(AB31<=20,"■",""),"") | AE31: =IF(AB31>=21,IF(AB31<=30,"■",""),"") | BA31: =IF(AG31="","－",AVERAGE(AG31:AZ31)) -> － | BB31: =IF(AG31="","-",RANK(BA31,BA$10:BA$39,0)) -> - | BC31: =IF(BB31<=10,"■","") | BD31: =IF(11<=BB31,IF(BB31<=20,"■",""),"") | BE31: =IF(BB31>=21,IF(BB31<=30,"■",""),"")
D32: 53 | E32: 能力向上のための制度や場の確保は | AA32: =IF(G32="","－",AVERAGE(G32:Z32)) -> － | AB32: =IF(G32="","-",RANK(AA32,AA$10:AA$39,0)) -> - | AC32: =IF(AB32<=10,"■","") | AD32: =IF(11<=AB32,IF(AB32<=20,"■",""),"") | AE32: =IF(AB32>=21,IF(AB32<=30,"■",""),"") | BA32: =IF(AG32="","－",AVERAGE(AG32:AZ32)) -> － | BB32: =IF(AG32="","-",RANK(BA32,BA$10:BA$39,0)) -> - | BC32: =IF(BB32<=10,"■","") | BD32: =IF(11<=BB32,IF(BB32<=20,"■",""),"") | BE32: =IF(BB32>=21,IF(BB32<=30,"■",""),"")
B33: 6 | C33: 人事評価 | D33: 61 | E33: 人事評価の適正さは | AA33: =IF(G33="","－",AVERAGE(G33:Z33)) -> － | AB33: =IF(G33="","-",RANK(AA33,AA$10:AA$39,0)) -> - | AC33: =IF(AB33<=10,"■","") | AD33: =IF(11<=AB33,IF(AB33<=20,"■",""),"") | AE33: =IF(AB33>=21,IF(AB33<=30,"■",""),"") | BA33: =IF(AG33="","－",AVERAGE(AG33:AZ33)) -> － | BB33: =IF(AG33="","-",RANK(BA33,BA$10:BA$39,0)) -> - | BC33: =IF(BB33<=10,"■","") | BD33: =IF(11<=BB33,IF(BB33<=20,"■",""),"") | BE33: =IF(BB33>=21,IF(BB33<=30,"■",""),"")
D34: 62 | E34: 自分の人事評価結果への説明の納得度は | AA34: =IF(G34="","－",AVERAGE(G34:Z34)) -> － | AB34: =IF(G34="","-",RANK(AA34,AA$10:AA$39,0)) -> - | AC34: =IF(AB34<=10,"■","") | AD34: =IF(11<=AB34,IF(AB34<=20,"■",""),"") | AE34: =IF(AB34>=21,IF(AB34<=30,"■",""),"") | BA34: =IF(AG34="","－",AVERAGE(AG34:AZ34)) -> － | BB34: =IF(AG34="","-",RANK(BA34,BA$10:BA$39,0)) -> - | BC34: =IF(BB34<=10,"■","") | BD34: =IF(11<=BB34,IF(BB34<=20,"■",""),"") | BE34: =IF(BB34>=21,IF(BB34<=30,"■",""),"")
D35: 63 | E35: 今のポストの自分の能力に対する相応しさは | AA35: =IF(G35="","－",AVERAGE(G35:Z35)) -> － | AB35: =IF(G35="","-",RANK(AA35,AA$10:AA$39,0)) -> - | AC35: =IF(AB35<=10,"■","") | AD35: =IF(11<=AB35,IF(AB35<=20,"■",""),"") | AE35: =IF(AB35>=21,IF(AB35<=30,"■",""),"") | BA35: =IF(AG35="","－",AVERAGE(AG35:AZ35)) -> － | BB35: =IF(AG35="","-",RANK(BA35,BA$10:BA$39,0)) -> - | BC35: =IF(BB35<=10,"■","") | BD35: =IF(11<=BB35,IF(BB35<=20,"■",""),"") | BE35: =IF(BB35>=21,IF(BB35<=30,"■",""),"")
D36: 64 | E36: 昇格や昇進の公正さや客観さは | AA36: =IF(G36="","－",AVERAGE(G36:Z36)) -> － | AB36: =IF(G36="","-",RANK(AA36,AA$10:AA$39,0)) -> - | AC36: =IF(AB36<=10,"■","") | AD36: =IF(11<=AB36,IF(AB36<=20,"■",""),"") | AE36: =IF(AB36>=21,IF(AB36<=30,"■",""),"") | BA36: =IF(AG36="","－",AVERAGE(AG36:AZ36)) -> － | BB36: =IF(AG36="","-",RANK(BA36,BA$10:BA$39,0)) -> - | BC36: =IF(BB36<=10,"■","") | BD36: =IF(11<=BB36,IF(BB36<=20,"■",""),"") | BE36: =IF(BB36>=21,IF(BB36<=30,"■",""),"")
B37: 7 | C37: 報酬 | D37: 71 | E37: 仕事内容や責任に対する給与の額（レベル）は | AA37: =IF(G37="","－",AVERAGE(G37:Z37)) -> － | AB37: =IF(G37="","-",RANK(AA37,AA$10:AA$39,0)) -> - | AC37: =IF(AB37<=10,"■","") | AD37: =IF(11<=AB37,IF(AB37<=20,"■",""),"") | AE37: =IF(AB37>=21,IF(AB37<=30,"■",""),"") | BA37: =IF(AG37="","－",AVERAGE(AG37:AZ37)) -> － | BB37: =IF(AG37="","-",RANK(BA37,BA$10:BA$39,0)) -> - | BC37: =IF(BB37<=10,"■","") | BD37: =IF(11<=BB37,IF(BB37<=20,"■",""),"") | BE37: =IF(BB37>=21,IF(BB37<=30,"■",""),"")
D38: 72 | E38: 部門部門間における報酬のレベルの適正度は | AA38: =IF(G38="","－",AVERAGE(G38:Z38)) -> － | AB38: =IF(G38="","-",RANK(AA38,AA$10:AA$39,0)) -> - | AC38: =IF(AB38<=10,"■","") | AD38: =IF(11<=AB38,IF(AB38<=20,"■",""),"") | AE38: =IF(AB38>=21,IF(AB38<=30,"■",""),"") | BA38: =IF(AG38="","－",AVERAGE(AG38:AZ38)) -> － | BB38: =IF(AG38="","-",RANK(BA38,BA$10:BA$39,0)) -> - | BC38: =IF(BB38<=10,"■","") | BD38: =IF(11<=BB38,IF(BB38<=20,"■",""),"") | BE38: =IF(BB38>=21,IF(BB38<=30,"■",""),"")
D39: 73 | E39: 仕事の成果と昇進・昇給の対応度は | AA39: =IF(G39="","－",AVERAGE(G39:Z39)) -> － | AB39: =IF(G39="","-",RANK(AA39,AA$10:AA$39,0)) -> - | AC39: =IF(AB39<=10,"■","") | AD39: =IF(11<=AB39,IF(AB39<=20,"■",""),"") | AE39: =IF(AB39>=21,IF(AB39<=30,"■",""),"") | BA39: =IF(AG39="","－",AVERAGE(AG39:AZ39)) -> － | BB39: =IF(AG39="","-",RANK(BA39,BA$10:BA$39,0)) -> - | BC39: =IF(BB39<=10,"■","") | BD39: =IF(11<=BB39,IF(BB39<=20,"■",""),"") | BE39: =IF(BB39>=21,IF(BB39<=30,"■",""),"")

Sheet 風土調査結果
B2: 風土調査結果
B4: 満足度 | C4: 上位 （1-10）
C10: 中位 （11-20）
C16: 下位 （21-30）
D22: 下位 （21-30） | F22: 中位 （11-20） | H22: 上位 （1-10）
D23: 重要度

Sheet ミッション展開
B2: ①ミッション展開シート | G2: 会社名
B4: 会社の理念・ミッション | E4: 部門ミッション（役割）
B5: 現行 | C5: 改訂 | E5: 部門名 | F5: ミッション（役割） | I5: 役割評価指標
F6: NO | G6: 対象（～を） | H6: 役割内容（～～すること） | J6: 現状値 | K6: 目標値
F7: 1
F8: 2
F9: 3
F10: 1
F11: 2
F12: 3
F13: 1
F14: 2
F15: 3
F16: 1
F17: 2
F18: 3
... F21: 3

Sheet 部門機能
B2: ②部門機能設計シート | J2: 会社名 | K2: =ミッション展開!H2 -> 0
G4: 会社理念・ミッション
G5: =ミッション展開!C7 -> 0
G6: ↓
G7: 部門名
G9: 部門ミッション（役割）
G10: 1 | H10: 2 | I10: 3
E11: 対象
E12: 役割内容
K13: 業務評価指標 | L13: 現状値 | M13: 目標値
B15: 主要業務 | C15: 1
C16: 2
C17: 3
C18: 4
C19: 5
C20: 6
C21: 7
E23: 役割評価指標
E24: 現状値
E25: 目標値

Sheet 小集団組織構想
B2: 小集団組織構想シート | F2: 会社名
B4: 小集団組織仕様 | F4: 小集団編成案
B6: 職制整合 | C6: 既存組織内小集団 | F6: 小集団組織名 | G6: 組織の期待役割 | H6: 人数 | I6: リーダー | J6: メンバー
C7: 異組織メンバー受入
B8: 組織横断 | C8: 異なる部門メンバー
C9: 同一領域内メンバー
B10: 参加自由度 | C10: 全員参加
C11: 希望者参加
B12: 重複参加 | C12: 重複不可
C13: 重複可能
B14: 組織人数 | C14: 小集団の人数
G16: 合計人数

Sheet マトリクス型等級
E2: 業務管理 | H2: 組織管理 | K2: マネジメント | N2: 思考特性
E3: 業務の遂行と管理 | H3: 人と組織の管理 | K3: 現場と業績の管理 | N3: 論理的思考 | Q3: 全体最適思考
E4: 1 | F4: 2 | G4: 3 | H4: 4 | I4: 5 | J4: 6 | K4: 7 | L4: 8 | M4: 9 | N4: 10 | O4: 11 | P4: 12 | Q4: 13 | R4: 14 | S4: 15
B5: 階層 | C5: 役割 | D5: 等級 | E5: 業務遂行 | F5: 業務 見直し | G5: トラブル 対応 | H5: 報・連・相 | I5: 部下指導 | J5: 風土管理 | K5: 現場管理 | L5: 資源管理 | M5: 業績管理 | N5: 問題解決 | O5: 課題解決 | P5: 発想・創出 | Q5: 交渉・折衝 | R5: 業務動向 | S5: 全社改革 貢献
B6: 管理職 | C6: 会社が進むべき方向に対して、自部門がどうあるべきかを考え、導いている | D6: ９等級 | J6: 風土面の他社事例を取り込んで風土改善をしている | M6: 全社の業績目標達成のために、自部門の役割を全うしている | O6: 社外を視野に入れた課題を定義して解決している | P6: 産業界での新たな着眼を自社に導入している | Q6: 会社の代表として、人脈の維持・形成、交渉をしている | R6: 経済情勢や自社が関わる全ての業界の動向を把握している | S6: 社外にまたがる全社改革を企画して実行している | T6: =COUNTA(E6:S6) -> 7
D7: ８等級 | J7: 自部門の風土改善を他部門にも適用させている | L7: 部門を横断して、必要な資源を最適に調達している | M7: 自部門の業績目標達成のための手法を考えている | O7: 社外を視野に入れた課題を定義している | P7: 業界内の先進的な着眼を自社に導入している | Q7: 会社の代表として、既存人脈の維持と交渉をしている | R7: 自部門が関わる業界情勢と将来展望を把握している | S7: 社内の部門を横断した改革を企画し、実行している | T7: =COUNTA(E7:S7) -> 8
D8: ７等級 | J8: 管轄する部門の風土面の問題を把握し可決している | L8: 経営資源の適切な調達方法を考えている | M8: 自部門の業績目標達成のために対応している | O8: 部門間の課題を定義して解決している | P8: 他部門の良い着眼を自部門に取り込んでいる | Q8: 部門の責任者として、人脈維持・形成、交渉をしている | R8: 自部門が関わる業界情勢を把握している | S8: 社内の部門を横断した改革を実行している | T8: =COUNTA(E8:S8) -> 8
B9: 監督職 | C9: 人・もの・金・情報を駆使して部門のあるべき状態を実現に導いている | D9: ６等級 | F9: 社外の改善事例を情報収集して、部署内へ展開している | G9: 社外に影響のあるトラブルに対処している | I9: 部下を、キャリア目標に基づいて育成している | K9: 部署の理想的目標の達成を指向している | L9: 職場で必要な人、もの、情報を把握し、手配している | M9: 社外の良い点を取り入れて自部署の目標を達成している | N9: 社外に関わる問題を解決している | O9: 部署内の課題を定義して解決している | P9: 部門内の良い着眼を部門全体へ波及している | Q9: 部署の責任者として、人脈の維持・形成、交渉をしている | R9: 自部署が関わる業界情勢を把握している | T9: =COUNTA(E9:S9) -> 11
D10: ５等級 | F10: 社内他部署の改善事例を情報収集して、部署内へ展開している | G10: 社内他部門にまたがるトラブルを対処している | I10: 部下を、他の部下によって間接的に指導している | K10: 部署の理想的状態を踏まえて目標を設定している | L10: 職場に必要なもの、情報などの資源を確保している | M10: 他部署の良い点を取り入れて自部署の目標を達成している | N10: 社内他部門に関わる問題を解決している | O10: 将来を見据えた職場課題を解決している | P10: 他部門の良い着眼を探索している | Q10: 部署の責任者として、人脈の維持、交渉をしている | T10: =COUNTA(E10:S10) -> 10
D11: ４等級 | F11: 業務改善すべき点を指示し、改善効果を出してる | G11: 通常業務のトラブルを対処している | H11: 部下の報告を待たずに、業務の進捗等を部下に聴いている | I11: 部下の個人的特徴を踏まえて指導している | K11: 部署のメンバーの個人別目標と実績を管理している | L11: 職場で必要な資材などを欠品することなく手配している | M11: 自部署の業績目標達成のために対応している | N11: 部署を横断する問題解決をしている | O11: 将来を見据えて、職場の課題を定義している | P11: 自部署内の良い着眼を自部署全体へ波及している | T11: =COUNTA(E11:S11) -> 10
B12: 一般職 | C12: 担当する業務をより良い方向に変えつつ、適正に遂行している | D12: ３等級 | E12: 担当領域の業務を一人で業務を遂行できる | F12: 定期的に改善して、有効性を向上している | H12: 業務の進捗・結果の報告に加えて、要所で相談している | I12: 後輩に対して必要に応じて指導している | K12: 業務の目標を設定して、実績の差を管理している | L12: 資材や備品の無駄をなくす改善をしている | N12: 自業務に関わる問題を解決している | P12: 与えられた状態の理想的な状態を考えている | T12: =COUNTA(E12:S12) -> 8
D13: ２等級 | E13: 上司の指示に基づいて、主体的に業務を遂行できる | F13: 有効性のある改善提案をしている | H13: 業務の進捗と結果（完了報告・トラブル）を上司に報告している | K13: 日々の業務の実績を記録して、報告している | L13: 資材や備品などの無駄のない使用方法を考えている | N13: 原因の論理的検討や多彩な対策を提案している | P13: 新しい着眼に挑戦する意欲がある | T13: =COUNTA(E13:S13) -> 7
D14: １等級 | E14: 上司の指示と指導の下で、業務を遂行できる | F14: 有効性はなくても改善提案をしている | H14: 業務の結果（完了報告・トラブル）を上司に報告している | L14: 資材や備品などを無駄なく使用している | N14: 問題解決に際しての現状分析に貢献している | P14: 他人の良い着眼に学ぶ姿勢がある | T14: =COUNTA(E14:S14) -> 6

Sheet 行動基準
B2: ③行動基準設計シート | E2: 会社名 | F2: =ミッション展開!H2 -> 0
B4: 区分 | C4: 一般的行動基準例 | E4: 理念 | H4: 対象階層
B5: 規律性 | C5: 身だしなみや言葉遣いなどのマナーが身に付いている | E5: =ミッション展開!C7 -> 0 | H5: 要選択 | I5: 要選択 | J5: 要選択 | K5: 要選択
C6: 就業規則や会社のルールを理解し、守れている
C7: 報告・連絡・相談を聞かれなくても率先して実行している | E7: ↓
B8: 協調性 | C8: 自分と異なる意見でも聞く姿勢がある | E8: 行動基準
C9: 自分の役割や立場を意識して行動している | E9: 1
C10: 周囲を見回して、必要であれば自主的にサポートしている | E10: 2
C11: 担当が未定の仕事を進んで対応している | E11: 3
B12: 自律性 | C12: 指示されなくても、やるべきことをやっている（自主性） | E12: 4
C13: 自分の業務に常に工夫を考えている（主体性） | E13: 5
C14: 自分がやるべきことを考えて実行している（自発性） | E14: 6
B15: 管理適性 | C15: 安全性や事故・ミス防止を意識して行動している | E15: 7
C16: 仕事について常に計画を立てて実行している | E16: 8
C17: 仕事の納期や期限を意識して遵守している | E17: 9
B18: 改善指向 | C18: 同じ仕事でも、常に改善を意識している | E18: 10
C19: より良い仕事のやり方を常に考えている | E19: 11
C20: 業務改善に協力して、変化に対応できている | E20: 12
C21: 収益の拡大や費用の削減を行っている | E21: 13
B22: 思考視座 | C22: 常に顧客の立場から考えている | E22: 14
C23: 過去の延長線でなく、未来から逆算で考えている | E23: 15
C24: できない理由でなく、どうすればできるかを発言している | E24: 16
C25: 常に前向きな姿勢で取り組んでいる | E25: 17
B26: 成長指向 | C26: 常に業務に必要なことを自主的に学んでいる | E26: 18
C27: 学んだことを活かしている | E27: 19
C28: 周囲のメンバーを育成している | E28: 20
H29: =COUNTA(H9:H28) -> 0 | I29: =COUNTA(I9:I28) -> 0 | J29: =COUNTA(J9:J28) -> 0 | K29: =COUNTA(K9:K28) -> 0

Sheet 人事評価
B2: 人事評価シート | K2: 年度 | M2: 選択 | N2: 期
X3: ランク基準
D4: 所属 | Q4: ｳｪｲﾄ | R4: 評価点 | S4: 総合点 | U4: ランク | W4: S | X4: 9 | Y4: ～
D5: 役職 | O5: 業績評価 | R5: =X18 -> 0 | S5: =Q5*R5+Q6*R6 -> #DIV/0! | U5: =IF(S5>=X4,"S",IF(S5>=X5,"A",IF(S5>=X6,"B",IF(S5>=X7,"C","D")))) -> #DIV/0! | W5: A | X5: 8 | Y5: ～
D6: 等級 | O6: 態度評価 | R6: =S33 -> 0 | W6: B | X6: 6 | Y6: ～
D7: 氏名 | W7: C | X7: 4 | Y7: ～
B10: 業績評価 | E10: 業績評価指標 | L10: ｳｪｲﾄ | M10: 現状値 | O10: 目標値 | Q10: 実績値
S11: 達成率計算式 | X11: 達成率
D12: 1
D13: 2
D14: 3
D16: 特筆事項 | W16: 総合達成率 | X16: =L12*X12+L13*X13+L14*X14 -> 0
W18: 評価点（10点満点） | X18: =X16*10 -> 0
B20: 態度評価 | D20: 行動基準 ＜理念体現事項＞ | L20: 自己評価 | S20: 上司評価 | V20: 上司氏名
M21: 自己評価の特筆事項があれば記入 | T21: 自己評価と異なる場合に理由を記載
D22: 1
D23: 2
D24: 3
D25: 4
D26: 5
D27: 6
D28: 7
D29: 8
D30: 9
D31: 10
S32: =IF(S32=0,"0",COUNTA(S22:S31)) -> 0
E33: ※自己評価、上司評価共に、2,1,0の点数をつける | R33: 評価点（平均の10点満点） | S33: =IF(S32=0,"-",AVERAGE(S22:S31)*5) -> 0

Sheet 賃金テーブル
B1: ■基本給テーブル
B3: 昇給額 | E3: 階層 | F3: 等級 | G3: 号 | H3: 等級 | I3: 18 | J3: 19 | K3: 20 | L3: 21 | M3: 22 | N3: 23 | O3: 24 | P3: 25 | Q3: 26 | R3: 27 | S3: 28 | T3: 29 | U3: 30 | V3: 31 | W3: 32 | X3: 33 | Y3: 34 | Z3: 35 | AA3: 36 | AB3: 37 | AC3: 38 | AD3: 39 | AE3: 40 | AF3: 41 | AG3: 42 | AH3: 43 | AI3: 44 | AJ3: 45 | AK3: 46 | AL3: 47 | AM3: 48 | AN3: 49 | AO3: 50 | AP3: 51 | AQ3: 52 | AR3: 53 | AS3: 54 | AT3: 55 | AU3: 56 | AV3: 57 | AW3: 58 | AX3: 59 | AY3: 60 | AZ3: 61 | BA3: 62 | BB3: 63 | BC3: 64 | BD3: 65
B4: 加齢 | C4: 昇格
B5: 3 | C5: 3 | E5: 管理職 | F5: 9 | G5: 2 | H5: 92 | AB5: =AB6+$C5 -> 308 | AC5: =AB5+$B5*AC$27/5 -> 311 | AD5: =AC5+$B5*AD$27/5 -> 314 | AE5: =AD5+$B5*AE$27/5 -> 317 | AF5: =AE5+$B5*AF$27/5 -> 320 | AG5: =AF5+$B5*AG$27/5 -> 323 | AH5: =AG5+$B5*AH$27/5 -> 326 | AI5: =AH5+$B5*AI$27/5 -> 329 | AJ5: =AI5+$B5*AJ$27/5 -> 332 | ... BD5: =BC5+$B5*BD$27/5 -> 351.8
B6: 3 | C6: 3 | G6: 1 | H6: 91 | AA6: =AA7+$C6 -> 302 | AB6: =AA6+$B6*AB$27/5 -> 305 | AC6: =AB6+$B6*AC$27/5 -> 308 | AD6: =AC6+$B6*AD$27/5 -> 311 | AE6: =AD6+$B6*AE$27/5 -> 314 | AF6: =AE6+$B6*AF$27/5 -> 317 | AG6: =AF6+$B6*AG$27/5 -> 320 | AH6: =AG6+$B6*AH$27/5 -> 323 | AI6: =AH6+$B6*AI$27/5 -> 326 | ... BD6: =BC6+$B6*BD$27/5 -> 348.8
B7: 3 | C7: 3 | F7: 8 | G7: 2 | H7: 82 | J7: 生涯賃金 | Z7: =Z8+$C7 -> 296 | AA7: =Z7+$B7*AA$27/5 -> 299 | AB7: =AA7+$B7*AB$27/5 -> 302 | AC7: =AB7+$B7*AC$27/5 -> 305 | AD7: =AC7+$B7*AD$27/5 -> 308 | AE7: =AD7+$B7*AE$27/5 -> 311 | AF7: =AE7+$B7*AF$27/5 -> 314 | AG7: =AF7+$B7*AG$27/5 -> 317 | AH7: =AG7+$B7*AH$27/5 -> 320 | ... BD7: =BC7+$B7*BD$27/5 -> 345.8
B8: 3 | C8: 3 | G8: 1 | H8: 81 | J8: =[1]生涯賃金!M56 -> 177428.48 | Y8: =Y9+$C8 -> 290 | Z8: =Y8+$B8*Z$27/5 -> 293 | AA8: =Z8+$B8*AA$27/5 -> 296 | AB8: =AA8+$B8*AB$27/5 -> 299 | AC8: =AB8+$B8*AC$27/5 -> 302 | AD8: =AC8+$B8*AD$27/5 -> 305 | AE8: =AD8+$B8*AE$27/5 -> 308 | AF8: =AE8+$B8*AF$27/5 -> 311 | AG8: =AF8+$B8*AG$27/5 -> 314 | ... BD8: =BC8+$B8*BD$27/5 -> 342.8
B9: 3 | C9: 3 | F9: 7 | G9: 2 | H9: 72 | X9: =X10+$C9 -> 284 | Y9: =X9+$B9*Y$27/5 -> 287 | Z9: =Y9+$B9*Z$27/5 -> 290 | AA9: =Z9+$B9*AA$27/5 -> 293 | AB9: =AA9+$B9*AB$27/5 -> 296 | AC9: =AB9+$B9*AC$27/5 -> 299 | AD9: =AC9+$B9*AD$27/5 -> 302 | AE9: =AD9+$B9*AE$27/5 -> 305 | AF9: =AE9+$B9*AF$27/5 -> 308 | ... BD9: =BC9+$B9*BD$27/5 -> 339.8
B10: 3 | C10: 3 | G10: 1 | H10: 71 | W10: =W11+$C10 -> 278 | X10: =W10+$B10*X$27/5 -> 281 | Y10: =X10+$B10*Y$27/5 -> 284 | Z10: =Y10+$B10*Z$27/5 -> 287 | AA10: =Z10+$B10*AA$27/5 -> 290 | AB10: =AA10+$B10*AB$27/5 -> 293 | AC10: =AB10+$B10*AC$27/5 -> 296 | AD10: =AC10+$B10*AD$27/5 -> 299 | AE10: =AD10+$B10*AE$27/5 -> 302 | ... BD10: =BC10+$B10*BD$27/5 -> 336.8
B11: 3 | C11: 5 | E11: 監督職 | F11: 6 | G11: 2 | H11: 62 | V11: =V12+$C11 -> 272 | W11: =V11+$B11*W$27/5 -> 275 | X11: =W11+$B11*X$27/5 -> 278 | Y11: =X11+$B11*Y$27/5 -> 281 | Z11: =Y11+$B11*Z$27/5 -> 284 | AA11: =Z11+$B11*AA$27/5 -> 287 | AB11: =AA11+$B11*AB$27/5 -> 290 | AC11: =AB11+$B11*AC$27/5 -> 293 | AD11: =AC11+$B11*AD$27/5 -> 296 | ... BD11: =BC11+$B11*BD$27/5 -> 333.8
B12: 3 | C12: 5 | G12: 1 | H12: 61 | U12: =U13+$C12 -> 264 | V12: =U12+$B12*V$27/5 -> 267 | W12: =V12+$B12*W$27/5 -> 270 | X12: =W12+$B12*X$27/5 -> 273 | Y12: =X12+$B12*Y$27/5 -> 276 | Z12: =Y12+$B12*Z$27/5 -> 279 | AA12: =Z12+$B12*AA$27/5 -> 282 | AB12: =AA12+$B12*AB$27/5 -> 285 | AC12: =AB12+$B12*AC$27/5 -> 288 | ... BD12: =BC12+$B12*BD$27/5 -> 328.8
B13: 3 | C13: 5 | F13: 5 | G13: 2 | H13: 52 | T13: =T14+$C13 -> 256 | U13: =T13+$B13*U$27/5 -> 259 | V13: =U13+$B13*V$27/5 -> 262 | W13: =V13+$B13*W$27/5 -> 265 | X13: =W13+$B13*X$27/5 -> 268 | Y13: =X13+$B13*Y$27/5 -> 271 | Z13: =Y13+$B13*Z$27/5 -> 274 | AA13: =Z13+$B13*AA$27/5 -> 277 | AB13: =AA13+$B13*AB$27/5 -> 280 | ... BD13: =BC13+$B13*BD$27/5 -> 323.8
B14: 3 | C14: 5 | G14: 1 | H14: 51 | S14: =S15+$C14 -> 248 | T14: =S14+$B14*T$27/5 -> 251 | U14: =T14+$B14*U$27/5 -> 254 | V14: =U14+$B14*V$27/5 -> 257 | W14: =V14+$B14*W$27/5 -> 260 | X14: =W14+$B14*X$27/5 -> 263 | Y14: =X14+$B14*Y$27/5 -> 266 | Z14: =Y14+$B14*Z$27/5 -> 269 | AA14: =Z14+$B14*AA$27/5 -> 272 | ... BD14: =BC14+$B14*BD$27/5 -> 318.8
B15: 3 | C15: 5 | F15: 4 | G15: 2 | H15: 42 | R15: =R16+$C15 -> 240 | S15: =R15+$B15*S$27/5 -> 243 | T15: =S15+$B15*T$27/5 -> 246 | U15: =T15+$B15*U$27/5 -> 249 | V15: =U15+$B15*V$27/5 -> 252 | W15: =V15+$B15*W$27/5 -> 255 | X15: =W15+$B15*X$27/5 -> 258 | Y15: =X15+$B15*Y$27/5 -> 261 | Z15: =Y15+$B15*Z$27/5 -> 264 | ... BD15: =BC15+$B15*BD$27/5 -> 313.8
B16: 3 | C16: 5 | G16: 1 | H16: 41 | Q16: =Q17+$C16 -> 232 | R16: =Q16+$B16*R$27/5 -> 235 | S16: =R16+$B16*S$27/5 -> 238 | T16: =S16+$B16*T$27/5 -> 241 | U16: =T16+$B16*U$27/5 -> 244 | V16: =U16+$B16*V$27/5 -> 247 | W16: =V16+$B16*W$27/5 -> 250 | X16: =W16+$B16*X$27/5 -> 253 | Y16: =X16+$B16*Y$27/5 -> 256 | ... BD16: =BC16+$B16*BD$27/5 -> 308.8
B17: 3 | C17: 5 | E17: 補助職 | F17: 3 | G17: 2 | H17: 32 | P17: =P18+$C17 -> 224 | Q17: =P17+$B17*Q$27/5 -> 227 | R17: =Q17+$B17*R$27/5 -> 230 | S17: =R17+$B17*S$27/5 -> 233 | T17: =S17+$B17*T$27/5 -> 236 | U17: =T17+$B17*U$27/5 -> 239 | V17: =U17+$B17*V$27/5 -> 242 | W17: =V17+$B17*W$27/5 -> 245 | X17: =W17+$B17*X$27/5 -> 248 | ... BD17: =BC17+$B17*BD$27/5 -> 303.8
B18: 3 | C18: 5 | G18: 1 | H18: 31 | O18: =O19+$C18 -> 216 | P18: =O18+$B18*P$27/5 -> 219 | Q18: =P18+$B18*Q$27/5 -> 222 | R18: =Q18+$B18*R$27/5 -> 225 | S18: =R18+$B18*S$27/5 -> 228 | T18: =S18+$B18*T$27/5 -> 231 | U18: =T18+$B18*U$27/5 -> 234 | V18: =U18+$B18*V$27/5 -> 237 | W18: =V18+$B18*W$27/5 -> 240 | ... BD18: =BC18+$B18*BD$27/5 -> 298.8
B19: 3 | C19: 5 | F19: 2 | G19: 2 | H19: 22 | N19: =N20+$C19 -> 208 | O19: =N19+$B19*O$27/5 -> 211 | P19: =O19+$B19*P$27/5 -> 214 | Q19: =P19+$B19*Q$27/5 -> 217 | R19: =Q19+$B19*R$27/5 -> 220 | S19: =R19+$B19*S$27/5 -> 223 | T19: =S19+$B19*T$27/5 -> 226 | U19: =T19+$B19*U$27/5 -> 229 | V19: =U19+$B19*V$27/5 -> 232 | ... BD19: =BC19+$B19*BD$27/5 -> 293.8
B20: 3 | G20: 1 | H20: 21 | M20: =C29 -> 200 | N20: =M20+$B20*N$27/5 -> 203 | O20: =N20+$B20*O$27/5 -> 206 | P20: =O20+$B20*P$27/5 -> 209 | Q20: =P20+$B20*Q$27/5 -> 212 | R20: =Q20+$B20*R$27/5 -> 215 | S20: =R20+$B20*S$27/5 -> 218 | T20: =S20+$B20*T$27/5 -> 221 | U20: =T20+$B20*U$27/5 -> 224 | ... BD20: =BC20+$B20*BD$27/5 -> 288.8
B21: 3 | F21: 1 | G21: 4 | H21: 14 | L21: =(($M$20-$K$22)/2)+K22 -> 192.5 | M21: =L21+$B21*M$27/5 -> 195.5 | N21: =M21+$B21*N$27/5 -> 198.5 | O21: =N21+$B21*O$27/5 -> 201.5 | P21: =O21+$B21*P$27/5 -> 204.5 | Q21: =P21+$B21*Q$27/5 -> 207.5 | R21: =Q21+$B21*R$27/5 -> 210.5 | S21: =R21+$B21*S$27/5 -> 213.5 | T21: =S21+$B21*T$27/5 -> 216.5 | ... BD21: =BC21+$B21*BD$27/5 -> 284.3
B22: 3 | G22: 3 | H22: 13 | K22: =C30 -> 185 | L22: =K22+$B22*L$27/5 -> 188 | M22: =L22+$B22*M$27/5 -> 191 | N22: =M22+$B22*N$27/5 -> 194 | O22: =N22+$B22*O$27/5 -> 197 | P22: =O22+$B22*P$27/5 -> 200 | Q22: =P22+$B22*Q$27/5 -> 203 | R22: =Q22+$B22*R$27/5 -> 206 | S22: =R22+$B22*S$27/5 -> 209 | ... BD22: =BC22+$B22*BD$27/5 -> 279.8
B23: 3 | G23: 2 | H23: 12 | J23: =(($K$22-$I$24)/2)+I24 -> 177.5 | K23: =J23+$B23*K$27/5 -> 180.5 | L23: =K23+$B23*L$27/5 -> 183.5 | M23: =L23+$B23*M$27/5 -> 186.5 | N23: =M23+$B23*N$27/5 -> 189.5 | O23: =N23+$B23*O$27/5 -> 192.5 | P23: =O23+$B23*P$27/5 -> 195.5 | Q23: =P23+$B23*Q$27/5 -> 198.5 | R23: =Q23+$B23*R$27/5 -> 201.5 | ... BD23: =BC23+$B23*BD$27/5 -> 275.3
B24: 3 | G24: 1 | H24: 11 | I24: =C31 -> 170 | J24: =I24+$B24*J$27/5 -> 173 | K24: =J24+$B24*K$27/5 -> 176 | L24: =K24+$B24*L$27/5 -> 179 | M24: =L24+$B24*M$27/5 -> 182 | N24: =M24+$B24*N$27/5 -> 185 | O24: =N24+$B24*O$27/5 -> 188 | P24: =O24+$B24*P$27/5 -> 191 | Q24: =P24+$B24*Q$27/5 -> 194 | ... BD24: =BC24+$B24*BD$27/5 -> 270.8
H25: 年齢 | I25: 18 | J25: 19 | K25: 20 | L25: 21 | M25: 22 | N25: 23 | O25: 24 | P25: 25 | Q25: 26 | R25: 27 | S25: 28 | T25: 29 | U25: 30 | V25: 31 | W25: 32 | X25: 33 | Y25: 34 | Z25: 35 | AA25: 36 | AB25: 37 | AC25: 38 | AD25: 39 | AE25: 40 | AF25: 41 | AG25: 42 | AH25: 43 | AI25: 44 | AJ25: 45 | AK25: 46 | AL25: 47 | AM25: 48 | AN25: 49 | AO25: 50 | AP25: 51 | AQ25: 52 | AR25: 53 | AS25: 54 | AT25: 55 | AU25: 56 | AV25: 57 | AW25: 58 | AX25: 59 | AY25: 60 | AZ25: 61 | BA25: 62 | BB25: 63 | BC25: 64 | BD25: 65
I27: 年齢給指数 | J27: 5 | K27: 5 | L27: 5 | M27: 5 | N27: 5 | O27: 5 | P27: 5 | Q27: 5 | R27: 5 | S27: 5 | T27: 5 | U27: 5 | V27: 5 | W27: 5 | X27: 5 | Y27: 5 | Z27: 5 | AA27: 5 | AB27: 5 | AC27: 5 | AD27: 5 | AE27: 5 | AF27: 5 | AG27: 5 | AH27: 5 | AI27: 5 | AJ27: 5 | AK27: 5 | AL27: 5 | AM27: 5 | AN27: 5 | AO27: 5 | AP27: 2 | AQ27: 2 | AR27: 2 | AS27: 2 | AT27: 0 | AU27: 0 | AV27: 0 | AW27: 0 | AX27: 0 | AY27: 0 | AZ27: 0 | BA27: 0 | BB27: 0 | BC27: 0 | BD27: 0
C28: 初任給
B29: 大卒 | C29: 200 | F29: 年齢 | G29: 52 | L29: 賞与年間月数 | M29: 1.58 | N29: ヶ月
B30: 専卒 | C30: 185 | F30: 等級 | G30: 71
B31: 高卒 | C31: 170 | F31: 給与 | G31: =INDEX(I5:BD24,MATCH(G30,H5:H24,0),MATCH(G29,I25:BD25,0)) -> 334.4

Sheet 業務移管計画
B2: 社長業務移管計画 | H2: 会社名 | BS2: 分析担当者
B4: 業務一覧 | E4: 業務量 【現状】 | Q4: 効率化余地診断 | AO4: 改善視点選択（3つの視点を選択） | BI4: 移管計画 | BT4: 業務量 【移管後】
AO5: 1 | AP5: 2 | AQ5: 3 | AR5: 4 | AS5: 5 | AT5: 6 | AU5: 7 | AV5: 8 | AW5: 9 | AX5: 10 | AY5: 11 | AZ5: 12 | BA5: 13 | BB5: 14 | BC5: 15 | BD5: 16 | BE5: 17
C6: 社長業務 | E6: 処理時間（分/回） | I6: 処理頻度（回数） | N6: =20*12 -> 240 | O6: 業務量 （Hr/日） | Q6: 改善対象選定 | S6: 特性分類 | W6: 特性別評価 | AM6: 効率化余地 | AO6: 削減 | AQ6: 変更 | AW6: 管理 | AZ6: ﾀｲﾐﾝｸﾞ | BB6: 分担 | BF6: 確認欄 | BI6: 山田 | BJ6: 木村 | BK6: 鈴木 | BL6: 大谷 | BT6: 移管 業務量 | BU6: 移管後 業務量
B7: NO | E7: 短 | F7: 普通 | G7: 長 | H7: 合成 平均 | I7: 少 | J7: 普通 | K7: 多 | L7: 合成 平均 | M7: 頻度 単位 | N7: 20 | S7: 定型 | T7: 専門 | U7: 横断 | V7: ＰＪ | W7: 定型 | Z7: 専門 | AC7: 横断 | AF7: ＰＪ | AO7: 廃止 | AP7: 削減 | AQ7: 方法変更 | AR7: 道具活用 | AS7: ＩＴ化 | AT7: 自動処理 | AU7: 共有化 | AV7: ＤＢ化 | AW7: 手順化 | AX7: 標準化 | AY7: 計画化 | AZ7: 同時化 | BA7: 別時化 | BB7: 分業化 | BC7: 一貫化 | BD7: 入替 | BE7: 分担変更 | BF7: 適用視点
N8: 5 | W8: A | X8: B | Y8: C | Z8: A | AA8: B | AB8: C | AC8: A | AD8: B | AE8: C | AF8: A | AG8: B | AH8: C
B9: 1 | H9: =(E9+F9*2+G9)/4 -> 0 | L9: =(I9+J9*2+K9)/4 -> 0 | N9: =H9*L9 -> 0 | O9: =IF(M9="年",N9/N$6,IF(M9="月",N9/N$7,IF(M9="週",N9/N$8,N9)))/60 -> 0 | Q9: － | AI9: =IF(S9="",0,(((SUM(W9:Y9)-3)*0.067)+0.5)*S9) -> 0 | AJ9: =IF(T9="",0,(((SUM(Z9:AB9)-3)*0.067)+0.5)*T9) -> 0 | AK9: =IF(U9="",0,(((SUM(AC9:AE9)-3)*0.067)+0.5)*U9) -> 0 | AL9: =IF(V9="",0,(((SUM(AF9:AH9)-3)*0.067)+0.5)*V9) -> 0 | AM9: =IF(Q9="－","-",1-(SUM(AI9:AL9))) -> - | BF9: =COUNTIF(AO9:BE9,"○") -> 0 | BG9: =IF(BF9=0,"-",IF(BF9>=3,"OK","要検討")) -> - | BN9: =$O9*BI9 -> 0 | BO9: =$O9*BJ9 -> 0 | BP9: =$O9*BK9 -> 0 | BQ9: =$O9*BL9 -> 0 | BR9: =$O9*BM9 -> 0 | BT9: =SUM(BN9:BR9) -> 0 | BU9: =O9-BT9 -> 0
B10: 2 | H10: =(E10+F10*2+G10)/4 -> 0 | L10: =(I10+J10*2+K10)/4 -> 0 | N10: =H10*L10 -> 0 | O10: =IF(M10="年",N10/N$6,IF(M10="月",N10/N$7,IF(M10="週",N10/N$8,N10)))/60 -> 0 | Q10: － | AI10: =IF(S10="",0,(((SUM(W10:Y10)-3)*0.067)+0.5)*S10) -> 0 | AJ10: =IF(T10="",0,(((SUM(Z10:AB10)-3)*0.067)+0.5)*T10) -> 0 | AK10: =IF(U10="",0,(((SUM(AC10:AE10)-3)*0.067)+0.5)*U10) -> 0 | AL10: =IF(V10="",0,(((SUM(AF10:AH10)-3)*0.067)+0.5)*V10) -> 0 | AM10: =IF(Q10="－","-",1-(SUM(AI10:AL10))) -> - | BF10: =COUNTIF(AO10:BE10,"○") -> 0 | BG10: =IF(BF10=0,"-",IF(BF10>=3,"OK","要検討")) -> - | BN10: =$O10*BI10 -> 0 | BO10: =$O10*BJ10 -> 0 | BP10: =$O10*BK10 -> 0 | BQ10: =$O10*BL10 -> 0 | BR10: =$O10*BM10 -> 0 | BT10: =SUM(BN10:BR10) -> 0 | BU10: =O10-BT10 -> 0
B11: 3 | H11: =(E11+F11*2+G11)/4 -> 0 | L11: =(I11+J11*2+K11)/4 -> 0 | N11: =H11*L11 -> 0 | O11: =IF(M11="年",N11/N$6,IF(M11="月",N11/N$7,IF(M11="週",N11/N$8,N11)))/60 -> 0 | Q11: － | AI11: =IF(S11="",0,(((SUM(W11:Y11)-3)*0.067)+0.5)*S11) -> 0 | AJ11: =IF(T11="",0,(((SUM(Z11:AB11)-3)*0.067)+0.5)*T11) -> 0 | AK11: =IF(U11="",0,(((SUM(AC11:AE11)-3)*0.067)+0.5)*U11) -> 0 | AL11: =IF(V11="",0,(((SUM(AF11:AH11)-3)*0.067)+0.5)*V11) -> 0 | AM11: =IF(Q11="－","-",1-(SUM(AI11:AL11))) -> - | BF11: =COUNTIF(AO11:BE11,"○") -> 0 | BG11: =IF(BF11=0,"-",IF(BF11>=3,"OK","要検討")) -> - | BN11: =$O11*BI11 -> 0 | BO11: =$O11*BJ11 -> 0 | BP11: =$O11*BK11 -> 0 | BQ11: =$O11*BL11 -> 0 | BR11: =$O11*BM11 -> 0 | BT11: =SUM(BN11:BR11) -> 0 | BU11: =O11-BT11 -> 0
B12: 4 | H12: =(E12+F12*2+G12)/4 -> 0 | L12: =(I12+J12*2+K12)/4 -> 0 | N12: =H12*L12 -> 0 | O12: =IF(M12="年",N12/N$6,IF(M12="月",N12/N$7,IF(M12="週",N12/N$8,N12)))/60 -> 0 | Q12: － | AI12: =IF(S12="",0,(((SUM(W12:Y12)-3)*0.067)+0.5)*S12) -> 0 | AJ12: =IF(T12="",0,(((SUM(Z12:AB12)-3)*0.067)+0.5)*T12) -> 0 | AK12: =IF(U12="",0,(((SUM(AC12:AE12)-3)*0.067)+0.5)*U12) -> 0 | AL12: =IF(V12="",0,(((SUM(AF12:AH12)-3)*0.067)+0.5)*V12) -> 0 | AM12: =IF(Q12="－","-",1-(SUM(AI12:AL12))) -> - | BF12: =COUNTIF(AO12:BE12,"○") -> 0 | BG12: =IF(BF12=0,"-",IF(BF12>=3,"OK","要検討")) -> - | BN12: =$O12*BI12 -> 0 | BO12: =$O12*BJ12 -> 0 | BP12: =$O12*BK12 -> 0 | BQ12: =$O12*BL12 -> 0 | BR12: =$O12*BM12 -> 0 | BT12: =SUM(BN12:BR12) -> 0 | BU12: =O12-BT12 -> 0
B13: 5 | H13: =(E13+F13*2+G13)/4 -> 0 | L13: =(I13+J13*2+K13)/4 -> 0 | N13: =H13*L13 -> 0 | O13: =IF(M13="年",N13/N$6,IF(M13="月",N13/N$7,IF(M13="週",N13/N$8,N13)))/60 -> 0 | Q13: － | AI13: =IF(S13="",0,(((SUM(W13:Y13)-3)*0.067)+0.5)*S13) -> 0 | AJ13: =IF(T13="",0,(((SUM(Z13:AB13)-3)*0.067)+0.5)*T13) -> 0 | AK13: =IF(U13="",0,(((SUM(AC13:AE13)-3)*0.067)+0.5)*U13) -> 0 | AL13: =IF(V13="",0,(((SUM(AF13:AH13)-3)*0.067)+0.5)*V13) -> 0 | AM13: =IF(Q13="－","-",1-(SUM(AI13:AL13))) -> - | BF13: =COUNTIF(AO13:BE13,"○") -> 0 | BG13: =IF(BF13=0,"-",IF(BF13>=3,"OK","要検討")) -> - | BN13: =$O13*BI13 -> 0 | BO13: =$O13*BJ13 -> 0 | BP13: =$O13*BK13 -> 0 | BQ13: =$O13*BL13 -> 0 | BR13: =$O13*BM13 -> 0 | BT13: =SUM(BN13:BR13) -> 0 | BU13: =O13-BT13 -> 0
B14: 6 | H14: =(E14+F14*2+G14)/4 -> 0 | L14: =(I14+J14*2+K14)/4 -> 0 | N14: =H14*L14 -> 0 | O14: =IF(M14="年",N14/N$6,IF(M14="月",N14/N$7,IF(M14="週",N14/N$8,N14)))/60 -> 0 | Q14: － | AI14: =IF(S14="",0,(((SUM(W14:Y14)-3)*0.067)+0.5)*S14) -> 0 | AJ14: =IF(T14="",0,(((SUM(Z14:AB14)-3)*0.067)+0.5)*T14) -> 0 | AK14: =IF(U14="",0,(((SUM(AC14:AE14)-3)*0.067)+0.5)*U14) -> 0 | AL14: =IF(V14="",0,(((SUM(AF14:AH14)-3)*0.067)+0.5)*V14) -> 0 | AM14: =IF(Q14="－","-",1-(SUM(AI14:AL14))) -> - | BF14: =COUNTIF(AO14:BE14,"○") -> 0 | BG14: =IF(BF14=0,"-",IF(BF14>=3,"OK","要検討")) -> - | BN14: =$O14*BI14 -> 0 | BO14: =$O14*BJ14 -> 0 | BP14: =$O14*BK14 -> 0 | BQ14: =$O14*BL14 -> 0 | BR14: =$O14*BM14 -> 0 | BT14: =SUM(BN14:BR14) -> 0 | BU14: =O14-BT14 -> 0
B15: 7 | H15: =(E15+F15*2+G15)/4 -> 0 | L15: =(I15+J15*2+K15)/4 -> 0 | N15: =H15*L15 -> 0 | O15: =IF(M15="年",N15/N$6,IF(M15="月",N15/N$7,IF(M15="週",N15/N$8,N15)))/60 -> 0 | Q15: － | AI15: =IF(S15="",0,(((SUM(W15:Y15)-3)*0.067)+0.5)*S15) -> 0 | AJ15: =IF(T15="",0,(((SUM(Z15:AB15)-3)*0.067)+0.5)*T15) -> 0 | AK15: =IF(U15="",0,(((SUM(AC15:AE15)-3)*0.067)+0.5)*U15) -> 0 | AL15: =IF(V15="",0,(((SUM(AF15:AH15)-3)*0.067)+0.5)*V15) -> 0 | AM15: =IF(Q15="－","-",1-(SUM(AI15:AL15))) -> - | BF15: =COUNTIF(AO15:BE15,"○") -> 0 | BG15: =IF(BF15=0,"-",IF(BF15>=3,"OK","要検討")) -> - | BN15: =$O15*BI15 -> 0 | BO15: =$O15*BJ15 -> 0 | BP15: =$O15*BK15 -> 0 | BQ15: =$O15*BL15 -> 0 | BR15: =$O15*BM15 -> 0 | BT15: =SUM(BN15:BR15) -> 0 | BU15: =O15-BT15 -> 0
B16: 8 | H16: =(E16+F16*2+G16)/4 -> 0 | L16: =(I16+J16*2+K16)/4 -> 0 | N16: =H16*L16 -> 0 | O16: =IF(M16="年",N16/N$6,IF(M16="月",N16/N$7,IF(M16="週",N16/N$8,N16)))/60 -> 0 | Q16: － | AI16: =IF(S16="",0,(((SUM(W16:Y16)-3)*0.067)+0.5)*S16) -> 0 | AJ16: =IF(T16="",0,(((SUM(Z16:AB16)-3)*0.067)+0.5)*T16) -> 0 | AK16: =IF(U16="",0,(((SUM(AC16:AE16)-3)*0.067)+0.5)*U16) -> 0 | AL16: =IF(V16="",0,(((SUM(AF16:AH16)-3)*0.067)+0.5)*V16) -> 0 | AM16: =IF(Q16="－","-",1-(SUM(AI16:AL16))) -> - | BF16: =COUNTIF(AO16:BE16,"○") -> 0 | BG16: =IF(BF16=0,"-",IF(BF16>=3,"OK","要検討")) -> - | BN16: =$O16*BI16 -> 0 | BO16: =$O16*BJ16 -> 0 | BP16: =$O16*BK16 -> 0 | BQ16: =$O16*BL16 -> 0 | BR16: =$O16*BM16 -> 0 | BT16: =SUM(BN16:BR16) -> 0 | BU16: =O16-BT16 -> 0
B17: 9 | H17: =(E17+F17*2+G17)/4 -> 0 | L17: =(I17+J17*2+K17)/4 -> 0 | N17: =H17*L17 -> 0 | O17: =IF(M17="年",N17/N$6,IF(M17="月",N17/N$7,IF(M17="週",N17/N$8,N17)))/60 -> 0 | Q17: － | AI17: =IF(S17="",0,(((SUM(W17:Y17)-3)*0.067)+0.5)*S17) -> 0 | AJ17: =IF(T17="",0,(((SUM(Z17:AB17)-3)*0.067)+0.5)*T17) -> 0 | AK17: =IF(U17="",0,(((SUM(AC17:AE17)-3)*0.067)+0.5)*U17) -> 0 | AL17: =IF(V17="",0,(((SUM(AF17:AH17)-3)*0.067)+0.5)*V17) -> 0 | AM17: =IF(Q17="－","-",1-(SUM(AI17:AL17))) -> - | BF17: =COUNTIF(AO17:BE17,"○") -> 0 | BG17: =IF(BF17=0,"-",IF(BF17>=3,"OK","要検討")) -> - | BN17: =$O17*BI17 -> 0 | BO17: =$O17*BJ17 -> 0 | BP17: =$O17*BK17 -> 0 | BQ17: =$O17*BL17 -> 0 | BR17: =$O17*BM17 -> 0 | BT17: =SUM(BN17:BR17) -> 0 | BU17: =O17-BT17 -> 0
B18: 10 | H18: =(E18+F18*2+G18)/4 -> 0 | L18: =(I18+J18*2+K18)/4 -> 0 | N18: =H18*L18 -> 0 | O18: =IF(M18="年",N18/N$6,IF(M18="月",N18/N$7,IF(M18="週",N18/N$8,N18)))/60 -> 0 | Q18: － | AI18: =IF(S18="",0,(((SUM(W18:Y18)-3)*0.067)+0.5)*S18) -> 0 | AJ18: =IF(T18="",0,(((SUM(Z18:AB18)-3)*0.067)+0.5)*T18) -> 0 | AK18: =IF(U18="",0,(((SUM(AC18:AE18)-3)*0.067)+0.5)*U18) -> 0 | AL18: =IF(V18="",0,(((SUM(AF18:AH18)-3)*0.067)+0.5)*V18) -> 0 | AM18: =IF(Q18="－","-",1-(SUM(AI18:AL18))) -> - | BF18: =COUNTIF(AO18:BE18,"○") -> 0 | BG18: =IF(BF18=0,"-",IF(BF18>=3,"OK","要検討")) -> - | BN18: =$O18*BI18 -> 0 | BO18: =$O18*BJ18 -> 0 | BP18: =$O18*BK18 -> 0 | BQ18: =$O18*BL18 -> 0 | BR18: =$O18*BM18 -> 0 | BT18: =SUM(BN18:BR18) -> 0 | BU18: =O18-BT18 -> 0
B19: 11 | H19: =(E19+F19*2+G19)/4 -> 0 | L19: =(I19+J19*2+K19)/4 -> 0 | N19: =H19*L19 -> 0 | O19: =IF(M19="年",N19/N$6,IF(M19="月",N19/N$7,IF(M19="週",N19/N$8,N19)))/60 -> 0 | Q19: － | AI19: =IF(S19="",0,(((SUM(W19:Y19)-3)*0.067)+0.5)*S19) -> 0 | AJ19: =IF(T19="",0,(((SUM(Z19:AB19)-3)*0.067)+0.5)*T19) -> 0 | AK19: =IF(U19="",0,(((SUM(AC19:AE19)-3)*0.067)+0.5)*U19) -> 0 | AL19: =IF(V19="",0,(((SUM(AF19:AH19)-3)*0.067)+0.5)*V19) -> 0 | AM19: =IF(Q19="－","-",1-(SUM(AI19:AL19))) -> - | BF19: =COUNTIF(AO19:BE19,"○") -> 0 | BG19: =IF(BF19=0,"-",IF(BF19>=3,"OK","要検討")) -> - | BN19: =$O19*BI19 -> 0 | BO19: =$O19*BJ19 -> 0 | BP19: =$O19*BK19 -> 0 | BQ19: =$O19*BL19 -> 0 | BR19: =$O19*BM19 -> 0 | BT19: =SUM(BN19:BR19) -> 0 | BU19: =O19-BT19 -> 0
B20: 12 | H20: =(E20+F20*2+G20)/4 -> 0 | L20: =(I20+J20*2+K20)/4 -> 0 | N20: =H20*L20 -> 0 | O20: =IF(M20="年",N20/N$6,IF(M20="月",N20/N$7,IF(M20="週",N20/N$8,N20)))/60 -> 0 | Q20: － | AI20: =IF(S20="",0,(((SUM(W20:Y20)-3)*0.067)+0.5)*S20) -> 0 | AJ20: =IF(T20="",0,(((SUM(Z20:AB20)-3)*0.067)+0.5)*T20) -> 0 | AK20: =IF(U20="",0,(((SUM(AC20:AE20)-3)*0.067)+0.5)*U20) -> 0 | AL20: =IF(V20="",0,(((SUM(AF20:AH20)-3)*0.067)+0.5)*V20) -> 0 | AM20: =IF(Q20="－","-",1-(SUM(AI20:AL20))) -> - | BF20: =COUNTIF(AO20:BE20,"○") -> 0 | BG20: =IF(BF20=0,"-",IF(BF20>=3,"OK","要検討")) -> - | BN20: =$O20*BI20 -> 0 | BO20: =$O20*BJ20 -> 0 | BP20: =$O20*BK20 -> 0 | BQ20: =$O20*BL20 -> 0 | BR20: =$O20*BM20 -> 0 | BT20: =SUM(BN20:BR20) -> 0 | BU20: =O20-BT20 -> 0
... B38: 30 | H38: =(E38+F38*2+G38)/4 -> 0 | L38: =(I38+J38*2+K38)/4 -> 0 | N38: =H38*L38 -> 0 | O38: =IF(M38="年",N38/N$6,IF(M38="月",N38/N$7,IF(M38="週",N38/N$8,N38)))/60 -> 0 | Q38: － | AI38: =IF(S38="",0,(((SUM(W38:Y38)-3)*0.067)+0.5)*S38) -> 0 | AJ38: =IF(T38="",0,(((SUM(Z38:AB38)-3)*0.067)+0.5)*T38) -> 0 | AK38: =IF(U38="",0,(((SUM(AC38:AE38)-3)*0.067)+0.5)*U38) -> 0 | AL38: =IF(V38="",0,(((SUM(AF38:AH38)-3)*0.067)+0.5)*V38) -> 0 | AM38: =IF(Q38="－","-",1-(SUM(AI38:AL38))) -> - | BF38: =COUNTIF(AO38:BE38,"○") -> 0 | BG38: =IF(BF38=0,"-",IF(BF38>=3,"OK","要検討")) -> - | BN38: =$O38*BI38 -> 0 | BO38: =$O38*BJ38 -> 0 | BP38: =$O38*BK38 -> 0 | BQ38: =$O38*BL38 -> 0 | BR38: =$O38*BM38 -> 0 | BT38: =SUM(BN38:BR38) -> 0 | BU38: =O38-BT38 -> 0
M40: 合計 | O40: =SUM(O9:O38) -> 0 | Q40: =COUNTIF(Q6:Q38,"○") -> 0 | BI40: =BN40 -> 0 | BJ40: =BO40 -> 0 | BK40: =BP40 -> 0 | BL40: =BQ40 -> 0 | BM40: =BR40 -> 0 | BN40: =SUM(BN9:BN39) -> 0 | BO40: =SUM(BO9:BO39) -> 0 | BP40: =SUM(BP9:BP39) -> 0 | BQ40: =SUM(BQ9:BQ39) -> 0 | BR40: =SUM(BR9:BR39) -> 0 | BT40: =SUM(BT9:BT38) -> 0 | BU40: =SUM(BU9:BU38) -> 0
BT41: =BT40/$O40 -> #DIV/0! | BU41: =BU40/$O40 -> #DIV/0!

Sheet 権限委譲
B2: 権限委譲シート
C4: 意思決定事項 | D4: 意思決定指針 | E4: 委譲対象者 | F4: 委譲ステージ
F5: 1 | G5: 2 | H5: 3 | I5: 4
B6: NO | F6: 社長決裁 | G6: 委任⇒ 社長決定 | H6: 委任⇒ 社長確認 | I6: 委譲
B7: 1 | C7: ＊＊購入 | D7: 3社見積で、最安値の選択 | E7: ＊＊ | F7: ■
B8: 2 | G8: ■
B9: 3 | H9: ■
B10: 4 | I10: ■
B11: 5
B12: 6
B13: 7
B14: 8
B15: 9
B16: 10
B17: 11
B18: 12
B19: 13
B20: 14
B21: 15
B22: 16
... B26: 20
