Workbook
Name ｋｋ: #REF!
Name ｋｋ: #REF!
Name ｋｋ: #REF!
Name ｋｋ: #REF!
Name ｋｋ: #REF!
Name ｋｋ: #REF!
Name Print_Area2: #REF!
Name Print_Area2: #REF!

Sheet 賃金テーブル
B1: ■基本給テーブル
B3: 昇給額 | E3: 階層 | F3: 等級 | G3: 号 | H3: 等級 | I3: 18 | J3: 19 | K3: 20 | L3: 21 | M3: 22 | N3: 23 | O3: 24 | P3: 25 | Q3: 26 | R3: 27 | S3: 28 | T3: 29 | U3: 30 | V3: 31 | W3: 32 | X3: 33 | Y3: 34 | Z3: 35 | AA3: 36 | AB3: 37 | AC3: 38 | AD3: 39 | AE3: 40 | AF3: 41 | AG3: 42 | AH3: 43 | AI3: 44 | AJ3: 45 | AK3: 46 | AL3: 47 | AM3: 48 | AN3: 49 | AO3: 50 | AP3: 51 | AQ3: 52 | AR3: 53 | AS3: 54 | AT3: 55 | AU3: 56 | AV3: 57 | AW3: 58 | AX3: 59 | AY3: 60 | AZ3: 61 | BA3: 62 | BB3: 63 | BC3: 64 | BD3: 65
B4: 加齢 | C4: 昇格
B5: 3 | C5: 3 | E5: 管理職 | F5: 9 | G5: 2 | H5: 92 | AB5: =AB6+$C5 -> 308 | AC5: =AB5+$B5*AC$27/5 -> 311 | AD5: =AC5+$B5*AD$27/5 -> 314 | AE5: =AD5+$B5*AE$27/5 -> 317 | AF5: =AE5+$B5*AF$27/5 -> 320 | AG5: =AF5+$B5*AG$27/5 -> 323 | AH5: =AG5+$B5*AH$27/5 -> 326 | AI5: =AH5+$B5*AI$27/5 -> 329 | AJ5: =AI5+$B5*AJ$27/5 -> 332 | ... BD5: =BC5+$B5*BD$27/5 -> 351.8
B6: 3 | C6: 3 | G6: 1 | H6: 91 | AA6: =AA7+$C6 -> 302 | AB6: =AA6+$B6*AB$27/5 -> 305 | AC6: =AB6+$B6*AC$27/5 -> 308 | AD6: =AC6+$B6*AD$27/5 -> 311 | AE6: =AD6+$B6*AE$27/5 -> 314 | AF6: =AE6+$B6*AF$27/5 -> 317 | AG6: =AF6+$B6*AG$27/5 -> 320 | AH6: =AG6+$B6*AH$27/5 -> 323 | AI6: =AH6+$B6*AI$27/5 -> 326 | ... BD6: =BC6+$B6*BD$27/5 -> 348.8
B7: 3 | C7: 3 | F7: 8 | G7: 2 | H7: 82 | J7: 生涯賃金 | Z7: =Z8+$C7 -> 296 | AA7: =Z7+$B7*AA$27/5 -> 299 | AB7: =AA7+$B7*AB$27/5 -> 302 | AC7: =AB7+$B7*AC$27/5 -> 305 | AD7: =AC7+$B7*AD$27/5 -> 308 | AE7: =AD7+$B7*AE$27/5 -> 311 | AF7: =AE7+$B7*AF$27/5 -> 314 | AG7: =AF7+$B7*AG$27/5 -> 317 | AH7: =AG7+$B7*AH$27/5 -> 320 | ... BD7: =BC7+$B7*BD$27/5 -> 345.8
B8: 3 | C8: 3 | G8: 1 | H8: 81 | J8: =生涯賃金!M56 -> 177428.48 | Y8: =Y9+$C8 -> 290 | Z8: =Y8+$B8*Z$27/5 -> 293 | AA8: =Z8+$B8*AA$27/5 -> 296 | AB8: =AA8+$B8*AB$27/5 -> 299 | AC8: =AB8+$B8*AC$27/5 -> 302 | AD8: =AC8+$B8*AD$27/5 -> 305 | AE8: =AD8+$B8*AE$27/5 -> 308 | AF8: =AE8+$B8*AF$27/5 -> 311 | AG8: =AF8+$B8*AG$27/5 -> 314 | ... BD8: =BC8+$B8*BD$27/5 -> 342.8
B9: 3 | C9: 3 | F9: 7 | G9: 2 | H9: 72 | X9: =X10+$C9 -> 284 | Y9: =X9+$B9*Y$27/5 -> 287 | Z9: =Y9+$B9*Z$27/5 -> 290 | AA9: =Z9+$B9*AA$27/5 -> 293 | AB9: =AA9+$B9*AB$27/5 -> 296 | AC9: =AB9+$B9*AC$27/5 -> 299 | AD9: =AC9+$B9*AD$27/5 -> 302 | AE9: =AD9+$B9*AE$27/5 -> 305 | AF9: =AE9+$B9*AF$27/5 -> 308 | ... BD9: =BC9+$B9*BD$27/5 -> 339.8
B10: 3 | C10: 3 | G10: 1 | H10: 71 | W10: =W11+$C10 -> 278 | X10: =W10+$B10*X$27/5 -> 281 | Y10: =X10+$B10*Y$27/5 -> 284 | Z10: =Y10+$B10*Z$27/5 -> 287 | AA10: =Z10+$B10*AA$27/5 -> 290 | AB10: =AA10+$B10*AB$27/5 -> 293 | AC10: =AB10+$B10*AC$27/5 -> 296 | AD10: =AC10+$B10*AD$27/5 -> 299 | AE10: =AD10+$B10*AE$27/5 -> 302 | ... BD10: =BC10+$B10*BD$27/5 -> 336.8
B11: 3 | C11: 5 | E11: 監督職 | F11: 6 | G11: 2 | H11: 62 | V11: =V12+$C11 -> 272 | W11: =V11+$B11*W$27/5 -> 275 | X11: =W11+$B11*X$27/5 -> 278 | Y11: =X11+$B11*Y$27/5 -> 281 | Z11: =Y11+$B11*Z$27/5 -> 284 | AA11: =Z11+$B11*AA$27/5 -> 287 | AB11: =AA11+$B11*AB$27/5 -> 290 | AC11: =AB11+$B11*AC$27/5 -> 293 | AD11: =AC11+$B11*AD$27/5 -> 296 | ... BD11: =BC11+$B11*BD$27/5 -> 333.8
B12: 3 | C12: 5 | G12: 1 | H12: 61 | U12: =U13+$C12 -> 264 | V12: =U12+$B12*V$27/5 -> 267 | W12: =V12+$B12*W$27/5 -> 270 | X12: =W12+$B12*X$27/5 -> 273 | Y12: =X12+$B12*Y$27/5 -> 276 | Z12: =Y12+$B12*Z$27/5 -> 279 | AA12: =Z12+$B12*AA$27/5 -> 282 | AB12: =AA12+$B12*AB$27/5 -> 285 | AC12: =AB12+$B12*AC$27/5 -> 288 | ... BD12: =BC12+$B12*BD$27/5 -> 328.8
B13: 3 | C13: 5 | F13: 5 | G13: 2 | H13: 52 | T13: =T14+$C13 -> 256 | U13: =T13+$B13*U$27/5 -> 259 | V13: =U13+$B13*V$27/5 -> 262 | W13: =V13+$B13*W$27/5 -> 265 | X13: =W13+$B13*X$27/5 -> 268 | Y13: =X13+$B13*Y$27/5 -> 271 | Z13: =Y13+$B13*Z$27/5 -> 274 | AA13: =Z13+$B13*AA$27/5 -> 277 | AB13: =AA13+$B13*AB$27/5 -> 280 | ... BD13: =BC13+$B13*BD$27/5 -> 323.8
B14: 3 | C14: 5 | G14: 1 | H14: 51 | S14: =S15+$C14 -> 248 | T14: =S14+$B14*T$27/5 -> 251 | U14: =T14+$B14*U$27/5 -> 254 | V14: =U14+$B14*V$27/5 -> 257 | W14: =V14+$B14*W$27/5 -> 260 | X14: =W14+$B14*X$27/5 -> 263 | Y14: =X14+$B14*Y$27/5 -> 266 | Z14: =Y14+$B14*Z$27/5 -> 269 | AA14: =Z14+$B14*AA$27/5 -> 272 | ... BD14: =BC14+$B14*BD$27/5 -> 318.8
B15: 3 | C15: 5 | F15: 4 | G15: 2 | H15: 42 | R15: =R16+$C15 -> 240 | S15: =R15+$B15*S$27/5 -> 243 | T15: =S15+$B15*T$27/5 -> 246 | U15: =T15+$B15*U$27/5 -> 249 | V15: =U15+$B15*V$27/5 -> 252 | W15: =V15+$B15*W$27/5 -> 255 | X15: =W15+$B15*X$27/5 -> 258 | Y15: =X15+$B15*Y$27/5 -> 261 | Z15: =Y15+$B15*Z$27/5 -> 264 | ... BD15: =BC15+$B15*BD$27/5 -> 313.8
B16: 3 | C16: 5 | G16: 1 | H16: 41 | Q16: =Q17+$C16 -> 232 | R16: =Q16+$B16*R$27/5 -> 235 | S16: =R16+$B16*S$27/5 -> 238 | T16: =S16+$B16*T$27/5 -> 241 | U16: =T16+$B16*U$27/5 -> 244 | V16: =U16+$B16*V$27/5 -> 247 | W16: =V16+$B16*W$27/5 -> 250 | X16: =W16+$B16*X$27/5 -> 253 | Y16: =X16+$B16*Y$27/5 -> 256 | ... BD16: =BC16+$B16*BD$27/5 -> 308.8
B17: 3 | C17: 5 | E17: 補助職 | F17: 3 | G17: 2 | H17: 32 | P17: =P18+$C17 -> 224 | Q17: =P17+$B17*Q$27/5 -> 227 | R17: =Q17+$B17*R$27/5 -> 230 | S17: =R17+$B17*S$27/5 -> 233 | T17: =S17+$B17*T$27/5 -> 236 | U17: =T17+$B17*U$27/5 -> 239 | V17: =U17+$B17*V$27/5 -> 242 | W17: =V17+$B17*W$27/5 -> 245 | X17: =W17+$B17*X$27/5 -> 248 | ... BD17: =BC17+$B17*BD$27/5 -> 303.8
B18: 3 | C18: 5 | G18: 1 | H18: 31 | O18: =O19+$C18 -> 216 | P18: =O18+$B18*P$27/5 -> 219 | Q18: =P18+$B18*Q$27/5 -> 222 | R18: =Q18+$B18*R$27/5 -> 225 | S18: =R18+$B18*S$27/5 -> 228 | T18: =S18+$B18*T$27/5 -> 231 | U18: =T18+$B18*U$27/5 -> 234 | V18: =U18+$B18*V$27/5 -> 237 | W18: =V18+$B18*W$27/5 -> 240 | ... BD18: =BC18+$B18*BD$27/5 -> 298.8
B19: 3 | C19: 5 | F19: 2 | G19: 2 | H19: 22 | N19: =N20+$C19 -> 208 | O19: =N19+$B19*O$27/5 -> 211 | P19: =O19+$B19*P$27/5 -> 214 | Q19: =P19+$B19*Q$27/5 -> 217 | R19: =Q19+$B19*R$27/5 -> 220 | S19: =R19+$B19*S$27/5 -> 223 | T19: =S19+$B19*T$27/5 -> 226 | U19: =T19+$B19*U$27/5 -> 229 | V19: =U19+$B19*V$27/5 -> 232 | ... BD19: =BC19+$B19*BD$27/5 -> 293.8
B20: 3 | G20: 1 | H20: 21 | M20: =C29 -> 200 | N20: =M20+$B20*N$27/5 -> 203 | O20: =N20+$B20*O$27/5 -> 206 | P20: =O20+$B20*P$27/5 -> 209 | Q20: =P20+$B20*Q$27/5 -> 212 | R20: =Q20+$B20*R$27/5 -> 215 | S20: =R20+$B20*S$27/5 -> 218 | T20: =S20+$B20*T$27/5 -> 221 | U20: =T20+$B20*U$27/5 -> 224 | ... BD20: =BC20+$B20*BD$27/5 -> 288.8
B21: 3 | F21: 1 | G21: 4 | H21: 14 | L21: =(($M$20-$K$22)/2)+K22 -> 192.5 | M21: =L21+$B21*M$27/5 -> 195.5 | N21: =M21+$B21*N$27/5 -> 198.5 | O21: =N21+$B21*O$27/5 -> 201.5 | P21: =O21+$B21*P$27/5 -> 204.5 | Q21: =P21+$B21*Q$27/5 -> 207.5 | R21: =Q21+$B21*R$27/5 -> 210.5 | S21: =R21+$B21*S$27/5 -> 213.5 | T21: =S21+$B21*T$27/5 -> 216.5 | ... BD21: =BC21+$B21*BD$27/5 -> 284.3
B22: 3 | G22: 3 | H22: 13 | K22: =C30 -> 185 | L22: =K22+$B22*L$27/5 -> 188 | M22: =L22+$B22*M$27/5 -> 191 | N22: =M22+$B22*N$27/5 -> 194 | O22: =N22+$B22*O$27/5 -> 197 | P22: =O22+$B22*P$27/5 -> 200 | Q22: =P22+$B22*Q$27/5 -> 203 | R22: =Q22+$B22*R$27/5 -> 206 | S22: =R22+$B22*S$27/5 -> 209 | ... BD22: =BC22+$B22*BD$27/5 -> 279.8
B23: 3 | G23: 2 | H23: 12 | J23: =(($K$22-$I$24)/2)+I24 -> 177.5 | K23: =J23+$B23*K$27/5 -> 180.5 | L23: =K23+$B23*L$27/5 -> 183.5 | M23: =L23+$B23*M$27/5 -> 186.5 | N23: =M23+$B23*N$27/5 -> 189.5 | O23: =N23+$B23*O$27/5 -> 192.5 | P23: =O23+$B23*P$27/5 -> 195.5 | Q23: =P23+$B23*Q$27/5 -> 198.5 | R23: =Q23+$B23*R$27/5 -> 201.5 | ... BD23: =BC23+$B23*BD$27/5 -> 275.3
B24: 3 | G24: 1 | H24: 11 | I24: =C31 -> 170 | J24: =I24+$B24*J$27/5 -> 173 | K24: =J24+$B24*K$27/5 -> 176 | L24: =K24+$B24*L$27/5 -> 179 | M24: =L24+$B24*M$27/5 -> 182 | N24: =M24+$B24*N$27/5 -> 185 | O24: =N24+$B24*O$27/5 -> 188 | P24: =O24+$B24*P$27/5 -> 191 | Q24: =P24+$B24*Q$27/5 -> 194 | ... BD24: =BC24+$B24*BD$27/5 -> 270.8
H25: 年齢 | I25: 18 | J25: 19 | K25: 20 | L25: 21 | M25: 22 | N25: 23 | O25: 24 | P25: 25 | Q25: 26 | R25: 27 | S25: 28 | T25: 29 | U25: 30 | V25: 31 | W25: 32 | X25: 33 | Y25: 34 | Z25: 35 | AA25: 36 | AB25: 37 | AC25: 38 | AD25: 39 | AE25: 40 | AF25: 41 | AG25: 42 | AH25: 43 | AI25: 44 | AJ25: 45 | AK25: 46 | AL25: 47 | AM25: 48 | AN25: 49 | AO25: 50 | AP25: 51 | AQ25: 52 | AR25: 53 | AS25: 54 | AT25: 55 | AU25: 56 | AV25: 57 | AW25: 58 | AX25: 59 | AY25: 60 | AZ25: 61 | BA25: 62 | BB25: 63 | BC25: 64 | BD25: 65
I27: 年齢給指数 | J27: 5 | K27: 5 | L27: 5 | M27: 5 | N27: 5 | O27: 5 | P27: 5 | Q27: 5 | R27: 5 | S27: 5 | T27: 5 | U27: 5 | V27: 5 | W27: 5 | X27: 5 | Y27: 5 | Z27: 5 | AA27: 5 | AB27: 5 | AC27: 5 | AD27: 5 | AE27: 5 | AF27: 5 | AG27: 5 | AH27: 5 | AI27: 5 | AJ27: 5 | AK27: 5 | AL27: 5 | AM27: 5 | AN27: 5 | AO27: 5 | AP27: 2 | AQ27: 2 | AR27: 2 | AS27: 2 | AT27: 0 | AU27: 0 | AV27: 0 | AW27: 0 | AX27: 0 | AY27: 0 | AZ27: 0 | BA27: 0 | BB27: 0 | BC27: 0 | BD27: 0
C28: 初任給
B29: 大卒 | C29: 200 | F29: 年齢 | G29: 52 | L29: 賞与年間月数 | M29: 1.58 | N29: ヶ月
B30: 専卒 | C30: 185 | F30: 等級 | G30: 71
B31: 高卒 | C31: 170 | F31: 給与 | G31: =INDEX(I5:BD24,MATCH(G30,H5:H24,0),MATCH(G29,I25:BD25,0)) -> 334.4

Sheet 新賃金比較
B2: ■新賃金シミュレーション
N3: 役職手当
N4: 部長 | O4: 100000
N5: 次長 | O5: 70000
N6: 課長Ａ | O6: 50000
N7: 課長Ｂ | O7: 30000
N8: 係長 | O8: 5000
N9: 主任 | O9: 2000
N10: 補助 | O10: －
I12: 現状賃金 | K12: 新賃金 | W12: 増減比較
B13: NO | C13: 氏名 | D13: 役職 | E13: 実際 年齢 | F13: 浪人 留年 | G13: 社会 年齢 | K13: 等級 | L13: 号 | M13: 等級 号 | N13: 基本給 | O13: 役職手当 | P13: 残業 | Q13: 休日出勤 | R13: 深夜 | S13: 通勤 非課税 | T13: 通勤 課税 | U13: 支給額 | W13: 新/現状
B14: 1 | D14: 課長Ｂ | E14: 52 | G14: =E14-F14 -> 52 | I14: =現状賃金!V28 -> 335000 | K14: 6 | L14: 1 | M14: 61 | N14: =INDEX(賃金テーブル!$I$5:$BD$24,MATCH(M14,賃金テーブル!$H$5:$H$24,0),MATCH(G14,賃金テーブル!$I$25:$BD$25,0))*1000 -> 326400 | O14: =VLOOKUP(D$14,N$4:O$10,2,FALSE) -> 30000 | P14: =現状賃金!P28 -> 0 | Q14: =現状賃金!Q28 -> 0 | R14: =現状賃金!R28 -> 0 | S14: =現状賃金!S28 -> 0 | T14: =現状賃金!T28 -> 12000 | U14: =SUM(N14:T14) -> 368400 | W14: =U14/I14 -> 1.0997015 | X14: =IF(W14>=1,"○",IF(W14>=0.9,"△","▲")) -> ○
B15: 2 | D15: 係長 | E15: 43 | G15: =E15-F15 -> 43 | I15: =現状賃金!V29 -> 328923.67 | K15: 5 | L15: 1 | M15: 51 | N15: =INDEX(賃金テーブル!$I$5:$BD$24,MATCH(M15,賃金テーブル!$H$5:$H$24,0),MATCH(G15,賃金テーブル!$I$25:$BD$25,0))*1000 -> 293000 | O15: =VLOOKUP(D15,N$4:O$10,2,FALSE) -> 5000 | P15: =現状賃金!P29 -> 602.22222 | Q15: =現状賃金!Q29 -> 34983.889 | R15: =現状賃金!R29 -> 337.55556 | S15: =現状賃金!S29 -> 2800 | T15: =現状賃金!T29 -> 4200 | U15: =SUM(N15:T15) -> 340923.67 | W15: =U15/I15 -> 1.0364826 | X15: =IF(W15>=1,"○",IF(W15>=0.9,"△","▲")) -> ○
B16: 3 | D16: 係長 | E16: 41 | G16: =E16-F16 -> 41 | I16: =現状賃金!V30 -> 332753.67 | K16: 5 | L16: 2 | M16: 52 | N16: =INDEX(賃金テーブル!$I$5:$BD$24,MATCH(M16,賃金テーブル!$H$5:$H$24,0),MATCH(G16,賃金テーブル!$I$25:$BD$25,0))*1000 -> 292000 | O16: =VLOOKUP(D16,N$4:O$10,2,FALSE) -> 5000 | P16: =現状賃金!P30 -> 0 | Q16: =現状賃金!Q30 -> 28253.667 | R16: =現状賃金!R30 -> 0 | S16: =現状賃金!S30 -> 0 | T16: =現状賃金!T30 -> 9000 | U16: =SUM(N16:T16) -> 334253.67 | W16: =U16/I16 -> 1.0045078 | X16: =IF(W16>=1,"○",IF(W16>=0.9,"△","▲")) -> ○
B17: 4 | D17: 補助 | O17: =VLOOKUP(D17,N$4:O$10,2,FALSE) -> －
B18: 5 | D18: 補助 | O18: =VLOOKUP(D18,N$4:O$10,2,FALSE) -> －
G20: 合計 | I20: =SUM(I14:I19) -> 996677.33 | N20: =SUM(N14:N19) -> 911400 | O20: =SUM(O14:O19) -> 40000 | P20: =SUM(P14:P19) -> 602.22222 | Q20: =SUM(Q14:Q19) -> 63237.556 | R20: =SUM(R14:R19) -> 337.55556 | S20: =SUM(S14:S19) -> 2800 | T20: =SUM(T14:T19) -> 25200 | U20: =SUM(U14:U19) -> 1043577.3 | W20: =U20/I20 -> 1.0470564 | X20: =IF(W20>=1,"○",IF(W20>=0.9,"△","▲")) -> ○
I21: =I20/$I20 -> 1 | N21: =N20/$I20 -> 0.91443837 | O21: =O20/$I20 -> 0.04013335 | P21: =P20/$I20 -> 0.00060422988 | Q21: =Q20/$I20 -> 0.063448373 | R21: =R20/$I20 -> 0.00033868088 | S21: =S20/$I20 -> 0.0028093345 | T21: =T20/$I20 -> 0.02528401 | U21: =U20/$I20 -> 1.0470564
O22: =SUM(O21:T21) -> 0.13261798 | W22: ○：100%- | X22: =COUNTIF(X$14:X$18,"○") -> 3
W23: △：90%- | X23: =COUNTIF(X$14:X$18,"△") -> 0
W24: ▲：-89% | X24: =COUNTIF(X$14:X$18,"▲") -> 0

Sheet 生涯賃金
B2: ■生涯賃金シミュレーション | L2: 賞与月数
L3: 1.6
B5: 生涯賃金算定条件 | G5: 月例給 | L5: 賞与 | M5: 年収
G6: 基本給 | H6: 役職 | I6: 時間外 | J6: 通勤 | K6: 支給額 | L6: 年間合計
B7: 1 | F7: 18歳
B8: 2 | F8: 19歳
B9: 3 | C9: 入社 | F9: 20歳 | G9: =賃金テーブル!K22 -> 185 | I9: 20 | J9: 10
B10: 4 | F10: 21歳 | G10: =賃金テーブル!L21 -> 192.5 | I10: 20 | J10: 10
B11: 5 | F11: 22歳 | G11: =賃金テーブル!M20 -> 200 | I11: 20 | J11: 10 | K11: =SUM(G11:J11) -> 230 | L11: =G11*L$3 -> 320 | M11: =K11*12+L11 -> 3080
B12: 6 | F12: 23歳 | G12: =賃金テーブル!N19 -> 208 | I12: 20 | J12: 10 | K12: =SUM(G12:J12) -> 238 | L12: =G12*L$3 -> 332.8 | M12: =K12*12+L12 -> 3188.8
B13: 7 | F13: 24歳 | G13: =賃金テーブル!O19 -> 211 | I13: 20 | J13: 10 | K13: =SUM(G13:J13) -> 241 | L13: =G13*L$3 -> 337.6 | M13: =K13*12+L13 -> 3229.6
B14: 8 | F14: 25歳 | G14: =賃金テーブル!P18 -> 219 | I14: 20 | J14: 10 | K14: =SUM(G14:J14) -> 249 | L14: =G14*L$3 -> 350.4 | M14: =K14*12+L14 -> 3338.4
B15: 9 | F15: 26歳 | G15: =賃金テーブル!Q17 -> 227 | I15: 20 | J15: 10 | K15: =SUM(G15:J15) -> 257 | L15: =G15*L$3 -> 363.2 | M15: =K15*12+L15 -> 3447.2
B16: 10 | F16: 27歳 | G16: =賃金テーブル!R17 -> 230 | I16: 20 | J16: 10 | K16: =SUM(G16:J16) -> 260 | L16: =G16*L$3 -> 368 | M16: =K16*12+L16 -> 3488
B17: 11 | F17: 28歳 | G17: =賃金テーブル!S16 -> 238 | I17: 20 | J17: 10 | K17: =SUM(G17:J17) -> 268 | L17: =G17*L$3 -> 380.8 | M17: =K17*12+L17 -> 3596.8
B18: 12 | F18: 29歳 | G18: =賃金テーブル!T16 -> 241 | I18: 20 | J18: 10 | K18: =SUM(G18:J18) -> 271 | L18: =G18*L$3 -> 385.6 | M18: =K18*12+L18 -> 3637.6
B19: 13 | F19: 30歳 | G19: =賃金テーブル!U15 -> 249 | I19: 20 | J19: 10 | K19: =SUM(G19:J19) -> 279 | L19: =G19*L$3 -> 398.4 | M19: =K19*12+L19 -> 3746.4
B20: 14 | F20: 31歳 | G20: =賃金テーブル!V15 -> 252 | I20: 30 | J20: 10 | K20: =SUM(G20:J20) -> 292 | L20: =G20*L$3 -> 403.2 | M20: =K20*12+L20 -> 3907.2
B21: 15 | F21: 32歳 | G21: =賃金テーブル!W15 -> 255 | I21: 30 | J21: 10 | K21: =SUM(G21:J21) -> 295 | L21: =G21*L$3 -> 408 | M21: =K21*12+L21 -> 3948
B22: 16 | F22: 33歳 | G22: =賃金テーブル!X14 -> 263 | I22: 30 | J22: 10 | K22: =SUM(G22:J22) -> 303 | L22: =G22*L$3 -> 420.8 | M22: =K22*12+L22 -> 4056.8
B23: 17 | F23: 34歳 | G23: =賃金テーブル!Y14 -> 266 | I23: 30 | J23: 10 | K23: =SUM(G23:J23) -> 306 | L23: =G23*L$3 -> 425.6 | M23: =K23*12+L23 -> 4097.6
B24: 18 | F24: 35歳 | G24: =賃金テーブル!Z13 -> 274 | I24: 30 | J24: 10 | K24: =SUM(G24:J24) -> 314 | L24: =G24*L$3 -> 438.4 | M24: =K24*12+L24 -> 4206.4
B25: 19 | F25: 36歳 | G25: =賃金テーブル!AA13 -> 277 | I25: 30 | J25: 10 | K25: =SUM(G25:J25) -> 317 | L25: =G25*L$3 -> 443.2 | M25: =K25*12+L25 -> 4247.2
B26: 20 | F26: 37歳 | G26: =賃金テーブル!AB13 -> 280 | I26: 30 | J26: 10 | K26: =SUM(G26:J26) -> 320 | L26: =G26*L$3 -> 448 | M26: =K26*12+L26 -> 4288
B27: 21 | F27: 38歳 | G27: =賃金テーブル!AC12 -> 288 | I27: 30 | J27: 10 | K27: =SUM(G27:J27) -> 328 | L27: =G27*L$3 -> 460.8 | M27: =K27*12+L27 -> 4396.8
B28: 22 | F28: 39歳 | G28: =賃金テーブル!AD12 -> 291 | I28: 30 | J28: 10 | K28: =SUM(G28:J28) -> 331 | L28: =G28*L$3 -> 465.6 | M28: =K28*12+L28 -> 4437.6
B29: 23 | F29: 40歳 | G29: =賃金テーブル!AE11 -> 299 | I29: 30 | J29: 10 | K29: =SUM(G29:J29) -> 339 | L29: =G29*L$3 -> 478.4 | M29: =K29*12+L29 -> 4546.4
B30: 24 | F30: 41歳 | G30: =賃金テーブル!AF11 -> 302 | I30: 30 | J30: 10 | K30: =SUM(G30:J30) -> 342 | L30: =G30*L$3 -> 483.2 | M30: =K30*12+L30 -> 4587.2
B31: 25 | F31: 42歳 | G31: =賃金テーブル!AG11 -> 305 | I31: 30 | J31: 10 | K31: =SUM(G31:J31) -> 345 | L31: =G31*L$3 -> 488 | M31: =K31*12+L31 -> 4628
B32: 26 | F32: 43歳 | G32: =賃金テーブル!AH10 -> 311 | I32: 30 | J32: 10 | K32: =SUM(G32:J32) -> 351 | L32: =G32*L$3 -> 497.6 | M32: =K32*12+L32 -> 4709.6
B33: 27 | F33: 44歳 | G33: =賃金テーブル!AI10 -> 314 | I33: 30 | J33: 10 | K33: =SUM(G33:J33) -> 354 | L33: =G33*L$3 -> 502.4 | M33: =K33*12+L33 -> 4750.4
B34: 28 | C34: 課長 | F34: 45歳 | G34: =賃金テーブル!AJ9 -> 320 | H34: 50 | J34: 10 | K34: =SUM(G34:J34) -> 380 | L34: =G34*L$3 -> 512 | M34: =K34*12+L34 -> 5072
B35: 29 | F35: 46歳 | G35: =賃金テーブル!AK9 -> 323 | H35: 50 | J35: 10 | K35: =SUM(G35:J35) -> 383 | L35: =G35*L$3 -> 516.8 | M35: =K35*12+L35 -> 5112.8
B36: 30 | F36: 47歳 | G36: =賃金テーブル!AL9 -> 326 | H36: 50 | J36: 10 | K36: =SUM(G36:J36) -> 386 | L36: =G36*L$3 -> 521.6 | M36: =K36*12+L36 -> 5153.6
B37: 31 | F37: 48歳 | G37: =賃金テーブル!AM8 -> 332 | H37: 50 | J37: 10 | K37: =SUM(G37:J37) -> 392 | L37: =G37*L$3 -> 531.2 | M37: =K37*12+L37 -> 5235.2
B38: 32 | F38: 49歳 | G38: =賃金テーブル!AN8 -> 335 | H38: 50 | J38: 10 | K38: =SUM(G38:J38) -> 395 | L38: =G38*L$3 -> 536 | M38: =K38*12+L38 -> 5276
B39: 33 | F39: 50歳 | G39: =賃金テーブル!AO7 -> 341 | H39: 50 | J39: 10 | K39: =SUM(G39:J39) -> 401 | L39: =G39*L$3 -> 545.6 | M39: =K39*12+L39 -> 5357.6
B40: 34 | F40: 51歳 | G40: =賃金テーブル!AP7 -> 342.2 | H40: 50 | J40: 10 | K40: =SUM(G40:J40) -> 402.2 | L40: =G40*L$3 -> 547.52 | M40: =K40*12+L40 -> 5373.92
B41: 35 | F41: 52歳 | G41: =賃金テーブル!AQ7 -> 343.4 | H41: 50 | J41: 10 | K41: =SUM(G41:J41) -> 403.4 | L41: =G41*L$3 -> 549.44 | M41: =K41*12+L41 -> 5390.24
B42: 36 | F42: 53歳 | G42: =賃金テーブル!AR6 -> 347.6 | H42: 50 | J42: 10 | K42: =SUM(G42:J42) -> 407.6 | L42: =G42*L$3 -> 556.16 | M42: =K42*12+L42 -> 5447.36
...

Sheet 賞与試算
B2: ■賞与支給額算出シミュレーション | G2: ※黄色いセルは、入力必要
G4: 固定支給率 | L4: 評価配分率 | N4: 貢献評価率
G5: 0.5 | L5: 0.4 | N5: 0.1
G6: ↓ | L6: ↓ | N6: ↓
E7: 賞与原資 | G7: 固定支給原資 | L7: 評価配分原資 | N7: 貢献評価原資
E8: 4000000 | G8: =E8*G5 -> 2000000 | L8: =E8*L5 -> 1600000 | N8: =N5*E8 -> 400000
G9: ↓ | L9: ↓ | N9: ↓
B10: NO | C10: 氏名 | D10: 役職 | E10: 基本給 | F10: 構成比 | G10: 固定支給額 | I10: 人事評価 | J10: ポイント | K10: 構成比 | L10: 評価配分額 | N10: 貢献評価額 | P10: 賞与支給額
B11: 1 | D11: 課長Ａ | E11: 326400 | F11: =E11/E$14 -> 0.35233161 | G11: =F11*G$8 -> 704663.21 | I11: Ｓ | J11: 14 | K11: =J11/J$14 -> 0.53846154 | L11: =K11*L$8 -> 861538.46 | N11: 150000 | P11: =G11+L11+N11 -> 1716201.7
B12: 2 | D12: 係長 | E12: 303000 | F12: =E12/E$14 -> 0.32707254 | G12: =F12*G$8 -> 654145.08 | I12: Ｂ | J12: 5 | K12: =J12/J$14 -> 0.19230769 | L12: =K12*L$8 -> 307692.31 | N12: 100000 | P12: =G12+L12+N12 -> 1061837.4
B13: 3 | D13: 係長 | E13: 297000 | F13: =E13/E$14 -> 0.32059585 | G13: =F13*G$8 -> 641191.71 | I13: Ａ | J13: 7 | K13: =J13/J$14 -> 0.26923077 | L13: =K13*L$8 -> 430769.23 | N13: 150000 | P13: =G13+L13+N13 -> 1221960.9
D14: 合計 | E14: =SUM(E11:E13) -> 926400 | F14: =E14/E$14 -> 1 | G14: =SUM(G11:G13) -> 2000000 | J14: =SUM(J11:J13) -> 26 | K14: =J14/J$14 -> 1 | L14: =SUM(L11:L13) -> 1600000 | N14: =SUM(N11:N13) -> 400000 | P14: =SUM(P11:P13) -> 4000000

Sheet 現状賃金
B2: ■現状賃金
I4: 月例給 | W4: 賞与 | Z4: 年収
I5: 基本給 | N5: 手当 | V5: 合計
I6: 年齢給 | J6: 勤続給 | K6: 職能給 | L6: 職務給 | M6: 合計 | N6: 技能手当 １ | O6: 技能手当 ２ | P6: 残業 | Q6: 休日出勤 | R6: 深夜 | S6: 通勤 非課税 | T6: 通勤 課税 | U6: 合計 | W6: H29.12 | X6: H30.8 | Y6: 合計
B7: NO | C7: 氏名 | D7: 役職 | E7: 実際 年齢 | F7: 浪人 留年 | G7: 社会 年齢
B8: 1 | D8: 課長 | E8: 52 | G8: =E8-F8 -> 52 | I8: 49000 | J8: 40000 | K8: 148000 | L8: 65000 | M8: =SUM(I8:L8) -> 302000 | N8: 20000 | O8: 1000 | T8: 12000 | U8: =SUM(N8:T8) -> 33000 | V8: =M8+U8 -> 335000 | W8: 250000 | X8: 280000 | Y8: =W8+X8 -> 530000 | Z8: =V8*12+Y8 -> 4550000
B9: 2 | E9: 43 | G9: =E9-F9 -> 43 | I9: 60000 | J9: 42000 | K9: 116000 | L9: 46000 | M9: =SUM(I9:L9) -> 264000 | N9: 20000 | O9: 2000 | P9: =5420/9 -> 602.22222 | Q9: =314855/9 -> 34983.889 | R9: =3038/9 -> 337.55556 | S9: 2800 | T9: 4200 | U9: =SUM(N9:T9) -> 64923.667 | V9: =M9+U9 -> 328923.67 | W9: 200000 | X9: 250000 | Y9: =W9+X9 -> 450000 | Z9: =V9*12+Y9 -> 4397084
B10: 3 | E10: 41 | G10: =E10-F10 -> 41 | I10: 60000 | J10: 46000 | K10: 116000 | L10: 41000 | M10: =SUM(I10:L10) -> 263000 | N10: 30000 | O10: 2500 | Q10: =254283/9 -> 28253.667 | T10: 9000 | U10: =SUM(N10:T10) -> 69753.667 | V10: =M10+U10 -> 332753.67 | W10: 200000 | X10: 250000 | Y10: =W10+X10 -> 450000 | Z10: =V10*12+Y10 -> 4443044
B11: 4 | G11: =E11-F11 -> 0 | V11: =M11+U11 -> 0 | Z11: =V11*12+Y11 -> 0
B12: 5 | G12: =E12-F12 -> 0 | Z12: =V12*12+Y12 -> 0
G14: 合計 | I14: =SUM(I8:I13) -> 169000 | J14: =SUM(J8:J13) -> 128000 | K14: =SUM(K8:K13) -> 380000 | L14: =SUM(L8:L13) -> 152000 | M14: =SUM(M8:M13) -> 829000 | N14: =SUM(N8:N13) -> 70000 | O14: =SUM(O8:O13) -> 5500 | P14: =SUM(P8:P13) -> 602.22222 | ... Y14: =SUM(Y8:Y13) -> 1430000
I15: =I14/$V14 -> 0.1695634 | J15: =J14/$V14 -> 0.12842672 | K15: =K14/$V14 -> 0.38126682 | L15: =L14/$V14 -> 0.15250673 | M15: =M14/$V14 -> 0.83176367 | N15: =N14/$V14 -> 0.070233362 | O15: =O14/$V14 -> 0.0055183356 | P15: =P14/$V14 -> 0.00060422988 | ... V15: =V14/$V14 -> 1
I17: ・直近の9月の支給額を使用
I18: ・残業、休日出勤、深夜は、9か月間の平均を算出して使用
I24: 月例給 | W24: 賞与 | Z24: 年収
I25: 基本給相当額 | P25: 手当相当額 | V25: 合計
I26: 年齢給 | J26: 勤続給 | K26: 職能給 | L26: 職務給 | M26: 技能手当 １ | N26: 技能手当 ２ | O26: 合計 | P26: 残業 | Q26: 休日出勤 | R26: 深夜 | S26: 通勤 非課税 | T26: 通勤 課税 | U26: 合計 | W26: H29.12 | X26: H30.8 | Y26: 合計
B27: NO | C27: 氏名 | D27: 役職 | E27: 実際 年齢 | F27: 浪人 留年 | G27: 社会 年齢
B28: 1 | D28: 課長 | E28: 52 | G28: =E28-F28 -> 52 | I28: 49000 | J28: 40000 | K28: 148000 | L28: 65000 | M28: 20000 | N28: 1000 | O28: =SUM(I28:N28) -> 323000 | T28: 12000 | U28: =SUM(P28:T28) -> 12000 | V28: =O28+U28 -> 335000 | W28: 250000 | X28: 280000 | Y28: =W28+X28 -> 530000 | Z28: =V28*12+Y28 -> 4550000
B29: 2 | E29: 43 | G29: =E29-F29 -> 43 | I29: 60000 | J29: 42000 | K29: 116000 | L29: 46000 | M29: 20000 | N29: 2000 | O29: =SUM(I29:N29) -> 286000 | P29: =5420/9 -> 602.22222 | Q29: =314855/9 -> 34983.889 | R29: =3038/9 -> 337.55556 | S29: 2800 | T29: 4200 | U29: =SUM(P29:T29) -> 42923.667 | V29: =O29+U29 -> 328923.67 | W29: 200000 | X29: 250000 | Y29: =W29+X29 -> 450000 | Z29: =V29*12+Y29 -> 4397084
B30: 3 | E30: 41 | G30: =E30-F30 -> 41 | I30: 60000 | J30: 46000 | K30: 116000 | L30: 41000 | M30: 30000 | N30: 2500 | O30: =SUM(I30:N30) -> 295500 | Q30: =254283/9 -> 28253.667 | T30: 9000 | U30: =SUM(P30:T30) -> 37253.667 | V30: =O30+U30 -> 332753.67 | W30: 200000 | X30: 250000 | Y30: =W30+X30 -> 450000 | Z30: =V30*12+Y30 -> 4443044
B31: 4 | G31: =E31-F31 -> 0 | V31: =O31+U31 -> 0 | Z31: =V31*12+Y31 -> 0
B32: 5 | G32: =E32-F32 -> 0 | Z32: =V32*12+Y32 -> 0
G34: 合計 | I34: =SUM(I28:I33) -> 169000 | J34: =SUM(J28:J33) -> 128000 | K34: =SUM(K28:K33) -> 380000 | L34: =SUM(L28:L33) -> 152000 | M34: =SUM(M28:M33) -> 70000 | N34: =SUM(N28:N33) -> 5500 | O34: =SUM(O28:O33) -> 904500 | P34: =SUM(P28:P33) -> 602.22222 | ... Y34: =SUM(Y28:Y33) -> 1430000
I35: =I34/$V34 -> 0.1695634 | J35: =J34/$V34 -> 0.12842672 | K35: =K34/$V34 -> 0.38126682 | L35: =L34/$V34 -> 0.15250673 | M35: =M34/$V34 -> 0.070233362 | N35: =N34/$V34 -> 0.0055183356 | O35: =O34/$V34 -> 0.90751537 | P35: =P34/$V34 -> 0.00060422988 | ... V35: =V34/$V34 -> 1
X37: 賞与 | Y37: =Y34/O34 -> 1.580984 | Z37: ヶ月
I38: ・技能手当を基本給に組み入れ
